Workbook

Sheet Estimates
E1: USA 2026 LAWN FALL SOLUTIONS CALCULATOR
S3: Additional Rebates & Bonus Unlocks:
D4: NAME YOUR DRAFT ORDER HERE: | R4: Spend Requirement: | S4: $5k+ | U4: $22k+ | V4: $55k+ | W4: $110k+ | X4: $165k+
D5: Description: | R5: Tier Rebate: | S5: 0.02 | U5: 0.03 | V5: 0.04 | W5: 0.05 | X5: 0.06
D6: Dist/DSR: | S6: =AND($L$41+$L$69>=5000,$L$41+$L$69<22000) -> FALSE | U6: =AND($L$41+$L$69>=22000,$L$41+$L$69<55000) -> FALSE | V6: =AND($L$41+$L$69>=55000,$L$41+$L$69<110000) -> FALSE | W6: =AND($L$41+$L$69>=110000,$L$41+$L$69<165000) -> FALSE | X6: =$L$41+$L$69>=165000 -> TRUE
D7: Envu Horizon ID: | R7: Product: | S7: Dismiss NXT (Warm and Cool) (8+ bottles) | V7: Scion (16+ bottles)
D8: Last Updated:
D9: Created For: | S9: =IF(S11=0,"n/a",S11) -> n/a | V9: =IF(V11=0,"n/a",V11) -> n/a
Q10: October Bonus: | R10: YES | S10: Spend < $55k = 1.0%; Spend > $55k = 2.0%
A11: ZM ADD | J11: HIDE | M11: HIDE | N11: HIDE | O11: HIDE | S11: =IF( L41+L69>5000, IF( AND( L41+L69<55000, SUMIFS(H15:H40,E15:E40,"*Dismiss**NXT*") + SUMIFS(H45:H68,E45:E68,"*Dismiss**NXT*")>=8 ), 0.01, IF( AND( L41+L69>=55000, SUMIFS(H15:H40,E15:E40,"*Dismiss**NXT*") + SUMIFS(H45:H68,E45:E68,"*Dismiss**NXT*")>=8 ), 0.02, "n/a" ) ), "n/a" ) -> n/a | V11: =IF( L41+L69>5000, IF( AND( L41+L69<55000, SUMIFS(H15:H40,E15:E40,"*Scion*") + SUMIFS(H45:H68,E45:E68,"*Scion*")>=16 ), 0.01, IF( AND( L41+L69>=55000, SUMIFS(H15:H40,E15:E40,"*Scion*") + SUMIFS(H45:H68,E45:E68,"*Scion*")>=16 ), 0.02, "n/a" ) ), "n/a" ) -> n/a | W11: =IF( AND( L41>=5000, L41<50000, SUMIFS(H18:H40,E18:E40,"*Resilia*")>=4 ), 0.01, IF( AND( L41>=50000, SUMIFS(H18:H40,E18:E40,"*Resilia*")>=4 ), 0.02, "n/a" ) ) -> n/a
A12: SKU Code | B12: RELEVANT | D12: REBATE FINDER. (Minimum Program Purchase to receive rebates is $5,000) | E12: PRODUCT NAME | F12: UNIT SIZE | G12: CATEGORY | H12: # UNITS | I12: ORIGINAL PRICE | J12: INSEASON SUBTOTAL | K12: EOP PRICE/ UNIT* | L12: INVOICE SUBTOTAL must be a minimum of $5,000 across NOW/FALL program to receive rebates | M12: REBATE TIERS AVAILABLE | N12: REBATE TIERS QUALIFIED | O12: QUALIFIED REBATE PER UNIT | P12: VOLUME BUY REBATES**† | Q12: ENVU EXTRAS + TIER REBATES | R12: NET PRICE/UNIT (all NOW rebates) | S12: TOTAL AFTER REBATE | T12: USE RATE / 1,000 FT2 | U12: USE RATE / ACRE | V12: TOTAL ACRES TREATED | W12: COST/ ACRE | X12: COST/ 1,000 FT2
A15: D00000903-1 | B15: =H15>0 -> FALSE | D15: {=IFERROR( _xlfn.TEXTJOIN( "; ", TRUE, _xlfn._xlws.FILTER( TEXT(PRICING[Rebate $],"$#,##0.00") & " off on " & IF( (PRICING[Min Qty]="") + (PRICING[Min Qty]=0), "1 unit", PRICING[Min Qty] & " units" ), (PRICING[SKU]=$A15) * (PRICING[Rebate $]<>"") ) ), "n/a" )} -> $0.00 off on 1-15 units | E15: =_xlfn.XLOOKUP(A15, PRICING[SKU], PRICING[Product], "") -> Altus® | F15: =_xlfn.XLOOKUP(A15, PRICING[SKU], PRICING[Size], "") -> 64 oz | G15: =IF(_xlfn.XLOOKUP(A15,PRICING[SKU],PRICING[Indication])="I","Insecticide", IF(_xlfn.XLOOKUP(A15,PRICING[SKU],PRICING[Indication])="H","Herbicide", IF(_xlfn.XLOOKUP(A15,PRICING[SKU],PRICING[Indication])="F","Fungicide", IF(_xlfn.XLOOKUP(A15,PRICING[SKU],PRICING[Indication])="PGR","PGR","")))) -> Insecticide | I15: =INDEX(PRICING[2026 In-Season Price],MATCH(A15,PRICING[SKU],0)) -> 471.04 | J15: =IF(H15*I15= 0,"",ROUND(H15*I15,2)) | K15: =INDEX(PRICING[NOW Price],MATCH(A15,PRICING[SKU],0)) -> 471.04 | L15: =IF(H15*K15= 0,"",ROUND(H15*K15,2)) | M15: =INDEX(Rebate_Lookup[Instances],MATCH(A15,Rebate_Lookup[SKU CODE],0)) -> 1 | N15: =IF(H15="","",INDEX(Rebate_Lookup[Qualified Rebate Tier],MATCH(A15,Rebate_Lookup[SKU CODE],0))) | O15: =IF(OR(H15="",N15=""),"", IF(N15=1,INDEX(Rebate_Lookup[REB_MOQ_1],MATCH(A15,Rebate_Lookup[SKU CODE],0)), IF(N15=2,INDEX(Rebate_Lookup[REB_MOQ_2],MATCH(A15,Rebate_Lookup[SKU CODE],0)), IF(N15=3,INDEX(Rebate_Lookup[REB_MOQ_3],MATCH(A15,Rebate_Lookup[SKU CODE],0)), IF(N15=4,INDEX(Rebate_Lookup[REB_MOQ_4],MATCH(A15,Rebate_Lookup[SKU CODE],0)), "#err"))))) | P15: =IF(L41>5000,IF(OR(O15=0,O15=""),"",ROUND(H15*O15,2)),"") | Q15: =IF( H15>0, IF( ISNUMBER(SEARCH("*Specticle**FLO*",E15)), IF( AND(_xlfn.XLOOKUP(A15,PRICING[SKU],PRICING[October Bonus],FALSE),$R$10="YES"), ROUND(L15*$G$86,2), "N/A" ), IFERROR(IF(_xlfn.XLOOKUP(A15,PRICING[SKU],PRICING[October Bonus],FALSE),ROUND(L15*SUM($G$83:$G$86),2),ROUND(L15*SUM($G$83:$G$85),2)),"") ), "" ) | R15: =IFERROR(ROUND((L15-SUM(P15:Q15))/H15,2),"") | S15: =IF(AND(H15<>"",H15>0), ROUND(H15*R15,2),"") | T15: {=IF(OR(H15="",H15=0), ROUND(_xlfn.XLOOKUP(1,(PRICING[SKU]=A15)*(PRICING[Set]=1),PRICING[Standard Use Rate (oz/M)]),2),ROUND( _xlfn.XLOOKUP( 1, (PRICING[SKU]=A15)* (PRICING[Set]=IF( _xlfn.XLOOKUP(A15,Rebate_Lookup[SKU CODE],Rebate_Lookup[MOQ_2])=0, 1, IF( AND( _xlfn.XLOOKUP(A15,Rebate_Lookup[SKU CODE],Rebate_Lookup[MOQ_3])=0, H15>=_xlfn.XLOOKUP(A15,Rebate_Lookup[SKU CODE],Rebate_Lookup[MOQ_2]) ), 2, IF( AND( H15>=_xlfn.XLOOKUP(A15,Rebate_Lookup[SKU CODE],Rebate_Lookup[MOQ_1]), H15<_xlfn.XLOOKUP(A15,Rebate_Lookup[SKU CODE],Rebate_Lookup[MOQ_2]) ), 1, IF( AND( H15>=_xlfn.XLOOKUP(A15,Rebate_Lookup[SKU CODE],Rebate_Lookup[MOQ_2]), OR( _xlfn.XLOOKUP(A15,Rebate_Lookup[SKU CODE],Rebate_Lookup[MOQ_3])=0, H15<_xlfn.XLOOKUP(A15,Rebate_Lookup[SKU CODE],Rebate_Lookup[MOQ_3]) ) ), 2, IF( OR( AND( _xlfn.XLOOKUP(A15,Rebate_Lookup[SKU CODE],Rebate_Lookup[MOQ_4])=0, H15>=_xlfn.XLOOKUP(A15,Rebate_Lookup[SKU CODE],Rebate_Lookup[MOQ_3]) ), AND( _xlfn.XLOOKUP(A15,Rebate_Lookup[SKU CODE],Rebate_Lookup[MOQ_4])>0, H15>=_xlfn.XLOOKUP(A15,Rebate_Lookup[SKU CODE],Rebate_Lookup[MOQ_3]), H15<_xlfn.XLOOKUP(A15,Rebate_Lookup[SKU CODE],Rebate_Lookup[MOQ_4]) ) ), 3, IF( AND( _xlfn.XLOOKUP(A15,Rebate_Lookup[SKU CODE],Rebate_Lookup[MOQ_4])>0, H15>=_xlfn.XLOOKUP(A15,Rebate_Lookup[SKU CODE],Rebate_Lookup[MOQ_4]) ), 4, 1 ) ) ) ) ) )), PRICING[Standard Use Rate (oz/M)] ), 2 ))} -> 0.32 | U15: =ROUND(T15*43.56,2) -> 13.94 | V15: =IF(AND(TRIM(U15)<>"",TRIM(H15)<>""),ROUND(H15*INDEX(PRICING[Package Ounces],MATCH(A15,PRICING[SKU],0))/U15,2),"") | W15: =IF(H15<>0,ROUND(S15/V15,2),0) -> 0 | X15: =ROUND(W15/43.56,2) -> 0
A16: D00000903-2 | B16: =H16>0 -> FALSE | D16: {=IFERROR( _xlfn.TEXTJOIN( "; ", TRUE, _xlfn._xlws.FILTER( TEXT(PRICING[Rebate $],"$#,##0.00") & " off on " & IF( (PRICING[Min Qty]="") + (PRICING[Min Qty]=0), "1 unit", PRICING[Min Qty] & " units" ), (PRICING[SKU]=$A16) * (PRICING[Rebate $]<>"") ) ), "n/a" )} -> $0.00 off on 16-31 units | E16: =_xlfn.XLOOKUP(A16, PRICING[SKU], PRICING[Product], "") -> Altus® | F16: =_xlfn.XLOOKUP(A16, PRICING[SKU], PRICING[Size], "") -> 64 oz | G16: =IF(_xlfn.XLOOKUP(A16,PRICING[SKU],PRICING[Indication])="I","Insecticide", IF(_xlfn.XLOOKUP(A16,PRICING[SKU],PRICING[Indication])="H","Herbicide", IF(_xlfn.XLOOKUP(A16,PRICING[SKU],PRICING[Indication])="F","Fungicide", IF(_xlfn.XLOOKUP(A16,PRICING[SKU],PRICING[Indication])="PGR","PGR","")))) -> Insecticide | I16: =INDEX(PRICING[2026 In-Season Price],MATCH(A16,PRICING[SKU],0)) -> 471.04 | J16: =IF(H16*I16= 0,"",ROUND(H16*I16,2)) | K16: =INDEX(PRICING[NOW Price],MATCH(A16,PRICING[SKU],0)) -> 447.36 | L16: =IF(H16*K16= 0,"",ROUND(H16*K16,2)) | M16: =INDEX(Rebate_Lookup[Instances],MATCH(A16,Rebate_Lookup[SKU CODE],0)) -> 1 | N16: =IF(H16="","",INDEX(Rebate_Lookup[Qualified Rebate Tier],MATCH(A16,Rebate_Lookup[SKU CODE],0))) | O16: =IF(OR(H16="",N16=""),"", IF(N16=1,INDEX(Rebate_Lookup[REB_MOQ_1],MATCH(A16,Rebate_Lookup[SKU CODE],0)), IF(N16=2,INDEX(Rebate_Lookup[REB_MOQ_2],MATCH(A16,Rebate_Lookup[SKU CODE],0)), IF(N16=3,INDEX(Rebate_Lookup[REB_MOQ_3],MATCH(A16,Rebate_Lookup[SKU CODE],0)), IF(N16=4,INDEX(Rebate_Lookup[REB_MOQ_4],MATCH(A16,Rebate_Lookup[SKU CODE],0)), "#err"))))) | P16: =IF(L41>5000,IF(OR(O16=0,O16=""),"",ROUND(H16*O16,2)),"") | Q16: =IF( H16>0, IF( ISNUMBER(SEARCH("*Specticle**FLO*",E16)), IF( AND(_xlfn.XLOOKUP(A16,PRICING[SKU],PRICING[October Bonus],FALSE),$R$10="YES"), ROUND(L16*$G$86,2), "N/A" ), IFERROR(IF(_xlfn.XLOOKUP(A16,PRICING[SKU],PRICING[October Bonus],FALSE),ROUND(L16*SUM($G$83:$G$86),2),ROUND(L16*SUM($G$83:$G$85),2)),"") ), "" ) | R16: =IFERROR(ROUND((L16-SUM(P16:Q16))/H16,2),"") | S16: =IF(AND(H16<>"",H16>0), ROUND(H16*R16,2),"") | T16: {=IF(OR(H16="",H16=0), ROUND(_xlfn.XLOOKUP(1,(PRICING[SKU]=A16)*(PRICING[Set]=1),PRICING[Standard Use Rate (oz/M)]),2),ROUND( _xlfn.XLOOKUP( 1, (PRICING[SKU]=A16)* (PRICING[Set]=IF( _xlfn.XLOOKUP(A16,Rebate_Lookup[SKU CODE],Rebate_Lookup[MOQ_2])=0, 1, IF( AND( _xlfn.XLOOKUP(A16,Rebate_Lookup[SKU CODE],Rebate_Lookup[MOQ_3])=0, H16>=_xlfn.XLOOKUP(A16,Rebate_Lookup[SKU CODE],Rebate_Lookup[MOQ_2]) ), 2, IF( AND( H16>=_xlfn.XLOOKUP(A16,Rebate_Lookup[SKU CODE],Rebate_Lookup[MOQ_1]), H16<_xlfn.XLOOKUP(A16,Rebate_Lookup[SKU CODE],Rebate_Lookup[MOQ_2]) ), 1, IF( AND( H16>=_xlfn.XLOOKUP(A16,Rebate_Lookup[SKU CODE],Rebate_Lookup[MOQ_2]), OR( _xlfn.XLOOKUP(A16,Rebate_Lookup[SKU CODE],Rebate_Lookup[MOQ_3])=0, H16<_xlfn.XLOOKUP(A16,Rebate_Lookup[SKU CODE],Rebate_Lookup[MOQ_3]) ) ), 2, IF( OR( AND( _xlfn.XLOOKUP(A16,Rebate_Lookup[SKU CODE],Rebate_Lookup[MOQ_4])=0, H16>=_xlfn.XLOOKUP(A16,Rebate_Lookup[SKU CODE],Rebate_Lookup[MOQ_3]) ), AND( _xlfn.XLOOKUP(A16,Rebate_Lookup[SKU CODE],Rebate_Lookup[MOQ_4])>0, H16>=_xlfn.XLOOKUP(A16,Rebate_Lookup[SKU CODE],Rebate_Lookup[MOQ_3]), H16<_xlfn.XLOOKUP(A16,Rebate_Lookup[SKU CODE],Rebate_Lookup[MOQ_4]) ) ), 3, IF( AND( _xlfn.XLOOKUP(A16,Rebate_Lookup[SKU CODE],Rebate_Lookup[MOQ_4])>0, H16>=_xlfn.XLOOKUP(A16,Rebate_Lookup[SKU CODE],Rebate_Lookup[MOQ_4]) ), 4, 1 ) ) ) ) ) )), PRICING[Standard Use Rate (oz/M)] ), 2 ))} -> 0.32 | U16: =ROUND(T16*43.56,2) -> 13.94 | V16: =IF(AND(TRIM(U16)<>"",TRIM(H16)<>""),ROUND(H16*INDEX(PRICING[Package Ounces],MATCH(A16,PRICING[SKU],0))/U16,2),"") | W16: =IF(H16<>0,ROUND(S16/V16,2),0) -> 0 | X16: =ROUND(W16/43.56,2) -> 0
A17: D00000903-3 | B17: =H17>0 -> FALSE | D17: {=IFERROR( _xlfn.TEXTJOIN( "; ", TRUE, _xlfn._xlws.FILTER( TEXT(PRICING[Rebate $],"$#,##0.00") & " off on " & IF( (PRICING[Min Qty]="") + (PRICING[Min Qty]=0), "1 unit", PRICING[Min Qty] & " units" ), (PRICING[SKU]=$A17) * (PRICING[Rebate $]<>"") ) ), "n/a" )} -> $0.00 off on 32+ units | E17: =_xlfn.XLOOKUP(A17, PRICING[SKU], PRICING[Product], "") -> Altus® | F17: =_xlfn.XLOOKUP(A17, PRICING[SKU], PRICING[Size], "") -> 64 oz | G17: =IF(_xlfn.XLOOKUP(A17,PRICING[SKU],PRICING[Indication])="I","Insecticide", IF(_xlfn.XLOOKUP(A17,PRICING[SKU],PRICING[Indication])="H","Herbicide", IF(_xlfn.XLOOKUP(A17,PRICING[SKU],PRICING[Indication])="F","Fungicide", IF(_xlfn.XLOOKUP(A17,PRICING[SKU],PRICING[Indication])="PGR","PGR","")))) -> Insecticide | I17: =INDEX(PRICING[2026 In-Season Price],MATCH(A17,PRICING[SKU],0)) -> 471.04 | J17: =IF(H17*I17= 0,"",ROUND(H17*I17,2)) | K17: =INDEX(PRICING[NOW Price],MATCH(A17,PRICING[SKU],0)) -> 423.68 | L17: =IF(H17*K17= 0,"",ROUND(H17*K17,2)) | M17: =INDEX(Rebate_Lookup[Instances],MATCH(A17,Rebate_Lookup[SKU CODE],0)) -> 1 | N17: =IF(H17="","",INDEX(Rebate_Lookup[Qualified Rebate Tier],MATCH(A17,Rebate_Lookup[SKU CODE],0))) | O17: =IF(OR(H17="",N17=""),"", IF(N17=1,INDEX(Rebate_Lookup[REB_MOQ_1],MATCH(A17,Rebate_Lookup[SKU CODE],0)), IF(N17=2,INDEX(Rebate_Lookup[REB_MOQ_2],MATCH(A17,Rebate_Lookup[SKU CODE],0)), IF(N17=3,INDEX(Rebate_Lookup[REB_MOQ_3],MATCH(A17,Rebate_Lookup[SKU CODE],0)), IF(N17=4,INDEX(Rebate_Lookup[REB_MOQ_4],MATCH(A17,Rebate_Lookup[SKU CODE],0)), "#err"))))) | P17: =IF(L41>5000,IF(OR(O17=0,O17=""),"",ROUND(H17*O17,2)),"") | Q17: =IF( H17>0, IF( ISNUMBER(SEARCH("*Specticle**FLO*",E17)), IF( AND(_xlfn.XLOOKUP(A17,PRICING[SKU],PRICING[October Bonus],FALSE),$R$10="YES"), ROUND(L17*$G$86,2), "N/A" ), IFERROR(IF(_xlfn.XLOOKUP(A17,PRICING[SKU],PRICING[October Bonus],FALSE),ROUND(L17*SUM($G$83:$G$86),2),ROUND(L17*SUM($G$83:$G$85),2)),"") ), "" ) | R17: =IFERROR(ROUND((L17-SUM(P17:Q17))/H17,2),"") | S17: =IF(AND(H17<>"",H17>0), ROUND(H17*R17,2),"") | T17: {=IF(OR(H17="",H17=0), ROUND(_xlfn.XLOOKUP(1,(PRICING[SKU]=A17)*(PRICING[Set]=1),PRICING[Standard Use Rate (oz/M)]),2),ROUND( _xlfn.XLOOKUP( 1, (PRICING[SKU]=A17)* (PRICING[Set]=IF( _xlfn.XLOOKUP(A17,Rebate_Lookup[SKU CODE],Rebate_Lookup[MOQ_2])=0, 1, IF( AND( _xlfn.XLOOKUP(A17,Rebate_Lookup[SKU CODE],Rebate_Lookup[MOQ_3])=0, H17>=_xlfn.XLOOKUP(A17,Rebate_Lookup[SKU CODE],Rebate_Lookup[MOQ_2]) ), 2, IF( AND( H17>=_xlfn.XLOOKUP(A17,Rebate_Lookup[SKU CODE],Rebate_Lookup[MOQ_1]), H17<_xlfn.XLOOKUP(A17,Rebate_Lookup[SKU CODE],Rebate_Lookup[MOQ_2]) ), 1, IF( AND( H17>=_xlfn.XLOOKUP(A17,Rebate_Lookup[SKU CODE],Rebate_Lookup[MOQ_2]), OR( _xlfn.XLOOKUP(A17,Rebate_Lookup[SKU CODE],Rebate_Lookup[MOQ_3])=0, H17<_xlfn.XLOOKUP(A17,Rebate_Lookup[SKU CODE],Rebate_Lookup[MOQ_3]) ) ), 2, IF( OR( AND( _xlfn.XLOOKUP(A17,Rebate_Lookup[SKU CODE],Rebate_Lookup[MOQ_4])=0, H17>=_xlfn.XLOOKUP(A17,Rebate_Lookup[SKU CODE],Rebate_Lookup[MOQ_3]) ), AND( _xlfn.XLOOKUP(A17,Rebate_Lookup[SKU CODE],Rebate_Lookup[MOQ_4])>0, H17>=_xlfn.XLOOKUP(A17,Rebate_Lookup[SKU CODE],Rebate_Lookup[MOQ_3]), H17<_xlfn.XLOOKUP(A17,Rebate_Lookup[SKU CODE],Rebate_Lookup[MOQ_4]) ) ), 3, IF( AND( _xlfn.XLOOKUP(A17,Rebate_Lookup[SKU CODE],Rebate_Lookup[MOQ_4])>0, H17>=_xlfn.XLOOKUP(A17,Rebate_Lookup[SKU CODE],Rebate_Lookup[MOQ_4]) ), 4, 1 ) ) ) ) ) )), PRICING[Standard Use Rate (oz/M)] ), 2 ))} -> 0.32 | U17: =ROUND(T17*43.56,2) -> 13.94 | V17: =IF(AND(TRIM(U17)<>"",TRIM(H17)<>""),ROUND(H17*INDEX(PRICING[Package Ounces],MATCH(A17,PRICING[SKU],0))/U17,2),"") | W17: =IF(H17<>0,ROUND(S17/V17,2),0) -> 0 | X17: =ROUND(W17/43.56,2) -> 0
A18: D00001204 | B18: =H18>0 -> FALSE | D18: {=IFERROR( _xlfn.TEXTJOIN( "; ", TRUE, _xlfn._xlws.FILTER( TEXT(PRICING[Rebate $],"$#,##0.00") & " off on " & IF( (PRICING[Min Qty]="") + (PRICING[Min Qty]=0), "1 unit", PRICING[Min Qty] & " units" ), (PRICING[SKU]=$A18) * (PRICING[Rebate $]<>"") * (PRICING[Rebate $]<>0) ) ), "n/a" )} -> $5.00 off on 16+ units | E18: =_xlfn.XLOOKUP(A18, PRICING[SKU], PRICING[Product], "") -> Celsius® WG | F18: =_xlfn.XLOOKUP(A18, PRICING[SKU], PRICING[Size], "") -> 10 oz | G18: =IF(_xlfn.XLOOKUP(A18,PRICING[SKU],PRICING[Indication])="I","Insecticide", IF(_xlfn.XLOOKUP(A18,PRICING[SKU],PRICING[Indication])="H","Herbicide", IF(_xlfn.XLOOKUP(A18,PRICING[SKU],PRICING[Indication])="F","Fungicide", IF(_xlfn.XLOOKUP(A18,PRICING[SKU],PRICING[Indication])="PGR","PGR","")))) -> Herbicide | I18: =INDEX(PRICING[2026 In-Season Price],MATCH(A18,PRICING[SKU],0)) -> 137.2 | J18: =IF(H18*I18= 0,"",ROUND(H18*I18,2)) | K18: =INDEX(PRICING[NOW Price],MATCH(A18,PRICING[SKU],0)) -> 133.2 | L18: =IF(H18*K18= 0,"",ROUND(H18*K18,2)) | M18: =INDEX(Rebate_Lookup[Instances],MATCH(A18,Rebate_Lookup[SKU CODE],0)) -> 2 | N18: =IF(H18="","",INDEX(Rebate_Lookup[Qualified Rebate Tier],MATCH(A18,Rebate_Lookup[SKU CODE],0))) | O18: =IF(OR(H18="",N18=""),"", IF(N18=1,INDEX(Rebate_Lookup[REB_MOQ_1],MATCH(A18,Rebate_Lookup[SKU CODE],0)), IF(N18=2,INDEX(Rebate_Lookup[REB_MOQ_2],MATCH(A18,Rebate_Lookup[SKU CODE],0)), IF(N18=3,INDEX(Rebate_Lookup[REB_MOQ_3],MATCH(A18,Rebate_Lookup[SKU CODE],0)), IF(N18=4,INDEX(Rebate_Lookup[REB_MOQ_4],MATCH(A18,Rebate_Lookup[SKU CODE],0)), "#err"))))) | P18: =IF(L41>5000,IF(OR(O18=0,O18=""),"",ROUND(H18*O18,2)),"") | Q18: =IF( H18>0, IF( ISNUMBER(SEARCH("*Specticle**FLO*",E18)), IF( AND(_xlfn.XLOOKUP(A18,PRICING[SKU],PRICING[October Bonus],FALSE),$R$10="YES"), ROUND(L18*$G$86,2), "N/A" ), IFERROR(IF(_xlfn.XLOOKUP(A18,PRICING[SKU],PRICING[October Bonus],FALSE),ROUND(L18*SUM($G$83:$G$86),2),ROUND(L18*SUM($G$83:$G$85),2)),"") ), "" ) | R18: =IFERROR(ROUND((L18-SUM(P18:Q18))/H18,2),"") | S18: =IF(AND(H18<>"",H18>0), ROUND(H18*R18,2),"") | T18: {=IF(OR(H18="",H18=0), ROUND(_xlfn.XLOOKUP(1,(PRICING[SKU]=A18)*(PRICING[Set]=1),PRICING[Standard Use Rate (oz/M)]),2),ROUND( _xlfn.XLOOKUP( 1, (PRICING[SKU]=A18)* (PRICING[Set]=IF( _xlfn.XLOOKUP(A18,Rebate_Lookup[SKU CODE],Rebate_Lookup[MOQ_2])=0, 1, IF( AND( _xlfn.XLOOKUP(A18,Rebate_Lookup[SKU CODE],Rebate_Lookup[MOQ_3])=0, H18>=_xlfn.XLOOKUP(A18,Rebate_Lookup[SKU CODE],Rebate_Lookup[MOQ_2]) ), 2, IF( AND( H18>=_xlfn.XLOOKUP(A18,Rebate_Lookup[SKU CODE],Rebate_Lookup[MOQ_1]), H18<_xlfn.XLOOKUP(A18,Rebate_Lookup[SKU CODE],Rebate_Lookup[MOQ_2]) ), 1, IF( AND( H18>=_xlfn.XLOOKUP(A18,Rebate_Lookup[SKU CODE],Rebate_Lookup[MOQ_2]), OR( _xlfn.XLOOKUP(A18,Rebate_Lookup[SKU CODE],Rebate_Lookup[MOQ_3])=0, H18<_xlfn.XLOOKUP(A18,Rebate_Lookup[SKU CODE],Rebate_Lookup[MOQ_3]) ) ), 2, IF( OR( AND( _xlfn.XLOOKUP(A18,Rebate_Lookup[SKU CODE],Rebate_Lookup[MOQ_4])=0, H18>=_xlfn.XLOOKUP(A18,Rebate_Lookup[SKU CODE],Rebate_Lookup[MOQ_3]) ), AND( _xlfn.XLOOKUP(A18,Rebate_Lookup[SKU CODE],Rebate_Lookup[MOQ_4])>0, H18>=_xlfn.XLOOKUP(A18,Rebate_Lookup[SKU CODE],Rebate_Lookup[MOQ_3]), H18<_xlfn.XLOOKUP(A18,Rebate_Lookup[SKU CODE],Rebate_Lookup[MOQ_4]) ) ), 3, IF( AND( _xlfn.XLOOKUP(A18,Rebate_Lookup[SKU CODE],Rebate_Lookup[MOQ_4])>0, H18>=_xlfn.XLOOKUP(A18,Rebate_Lookup[SKU CODE],Rebate_Lookup[MOQ_4]) ), 4, 1 ) ) ) ) ) )), PRICING[Standard Use Rate (oz/M)] ), 2 ))} -> 0.08 | U18: =ROUND(T18*43.56,2) -> 3.48 | V18: =IF(AND(TRIM(U18)<>"",TRIM(H18)<>""),ROUND(H18*INDEX(PRICING[Package Ounces],MATCH(A18,PRICING[SKU],0))/U18,2),"") | W18: =IF(H18<>0,ROUND(S18/V18,2),0) -> 0 | X18: =ROUND(W18/43.56,2) -> 0
A19: D00000911 | B19: =H19>0 -> FALSE | D19: {=IFERROR( _xlfn.TEXTJOIN( "; ", TRUE, _xlfn._xlws.FILTER( TEXT(PRICING[Rebate $],"$#,##0.00") & " off on " & IF( (PRICING[Min Qty]="") + (PRICING[Min Qty]=0), "1 unit", PRICING[Min Qty] & " units" ), (PRICING[SKU]=$A19) * (PRICING[Rebate $]<>"") * (PRICING[Rebate $]<>0) ) ), "n/a" )} -> $7.00 off on 16+ units | E19: =_xlfn.XLOOKUP(A19, PRICING[SKU], PRICING[Product], "") -> Celsius® XTRA | F19: =_xlfn.XLOOKUP(A19, PRICING[SKU], PRICING[Size], "") -> 10 oz | G19: =IF(_xlfn.XLOOKUP(A19,PRICING[SKU],PRICING[Indication])="I","Insecticide", IF(_xlfn.XLOOKUP(A19,PRICING[SKU],PRICING[Indication])="H","Herbicide", IF(_xlfn.XLOOKUP(A19,PRICING[SKU],PRICING[Indication])="F","Fungicide", IF(_xlfn.XLOOKUP(A19,PRICING[SKU],PRICING[Indication])="PGR","PGR","")))) -> Herbicide | I19: =INDEX(PRICING[2026 In-Season Price],MATCH(A19,PRICING[SKU],0)) -> 165.3 | J19: =IF(H19*I19= 0,"",ROUND(H19*I19,2)) | K19: =INDEX(PRICING[NOW Price],MATCH(A19,PRICING[SKU],0)) -> 165.3 | L19: =IF(H19*K19= 0,"",ROUND(H19*K19,2)) | M19: =INDEX(Rebate_Lookup[Instances],MATCH(A19,Rebate_Lookup[SKU CODE],0)) -> 2 | N19: =IF(H19="","",INDEX(Rebate_Lookup[Qualified Rebate Tier],MATCH(A19,Rebate_Lookup[SKU CODE],0))) | O19: =IF(OR(H19="",N19=""),"", IF(N19=1,INDEX(Rebate_Lookup[REB_MOQ_1],MATCH(A19,Rebate_Lookup[SKU CODE],0)), IF(N19=2,INDEX(Rebate_Lookup[REB_MOQ_2],MATCH(A19,Rebate_Lookup[SKU CODE],0)), IF(N19=3,INDEX(Rebate_Lookup[REB_MOQ_3],MATCH(A19,Rebate_Lookup[SKU CODE],0)), IF(N19=4,INDEX(Rebate_Lookup[REB_MOQ_4],MATCH(A19,Rebate_Lookup[SKU CODE],0)), "#err"))))) | P19: =IF(L41>5000,IF(OR(O19=0,O19=""),"",ROUND(H19*O19,2)),"") | Q19: =IF( H19>0, IF( ISNUMBER(SEARCH("*Specticle**FLO*",E19)), IF( AND(_xlfn.XLOOKUP(A19,PRICING[SKU],PRICING[October Bonus],FALSE),$R$10="YES"), ROUND(L19*$G$86,2), "N/A" ), IFERROR(IF(_xlfn.XLOOKUP(A19,PRICING[SKU],PRICING[October Bonus],FALSE),ROUND(L19*SUM($G$83:$G$86),2),ROUND(L19*SUM($G$83:$G$85),2)),"") ), "" ) | R19: =IFERROR(ROUND((L19-SUM(P19:Q19))/H19,2),"") | S19: =IF(AND(H19<>"",H19>0), ROUND(H19*R19,2),"") | T19: {=IF(OR(H19="",H19=0), ROUND(_xlfn.XLOOKUP(1,(PRICING[SKU]=A19)*(PRICING[Set]=1),PRICING[Standard Use Rate (oz/M)]),2),ROUND( _xlfn.XLOOKUP( 1, (PRICING[SKU]=A19)* (PRICING[Set]=IF( _xlfn.XLOOKUP(A19,Rebate_Lookup[SKU CODE],Rebate_Lookup[MOQ_2])=0, 1, IF( AND( _xlfn.XLOOKUP(A19,Rebate_Lookup[SKU CODE],Rebate_Lookup[MOQ_3])=0, H19>=_xlfn.XLOOKUP(A19,Rebate_Lookup[SKU CODE],Rebate_Lookup[MOQ_2]) ), 2, IF( AND( H19>=_xlfn.XLOOKUP(A19,Rebate_Lookup[SKU CODE],Rebate_Lookup[MOQ_1]), H19<_xlfn.XLOOKUP(A19,Rebate_Lookup[SKU CODE],Rebate_Lookup[MOQ_2]) ), 1, IF( AND( H19>=_xlfn.XLOOKUP(A19,Rebate_Lookup[SKU CODE],Rebate_Lookup[MOQ_2]), OR( _xlfn.XLOOKUP(A19,Rebate_Lookup[SKU CODE],Rebate_Lookup[MOQ_3])=0, H19<_xlfn.XLOOKUP(A19,Rebate_Lookup[SKU CODE],Rebate_Lookup[MOQ_3]) ) ), 2, IF( OR( AND( _xlfn.XLOOKUP(A19,Rebate_Lookup[SKU CODE],Rebate_Lookup[MOQ_4])=0, H19>=_xlfn.XLOOKUP(A19,Rebate_Lookup[SKU CODE],Rebate_Lookup[MOQ_3]) ), AND( _xlfn.XLOOKUP(A19,Rebate_Lookup[SKU CODE],Rebate_Lookup[MOQ_4])>0, H19>=_xlfn.XLOOKUP(A19,Rebate_Lookup[SKU CODE],Rebate_Lookup[MOQ_3]), H19<_xlfn.XLOOKUP(A19,Rebate_Lookup[SKU CODE],Rebate_Lookup[MOQ_4]) ) ), 3, IF( AND( _xlfn.XLOOKUP(A19,Rebate_Lookup[SKU CODE],Rebate_Lookup[MOQ_4])>0, H19>=_xlfn.XLOOKUP(A19,Rebate_Lookup[SKU CODE],Rebate_Lookup[MOQ_4]) ), 4, 1 ) ) ) ) ) )), PRICING[Standard Use Rate (oz/M)] ), 2 ))} -> 0.17 | U19: =ROUND(T19*43.56,2) -> 7.41 | V19: =IF(AND(TRIM(U19)<>"",TRIM(H19)<>""),ROUND(H19*INDEX(PRICING[Package Ounces],MATCH(A19,PRICING[SKU],0))/U19,2),"") | W19: =IF(H19<>0,ROUND(S19/V19,2),0) -> 0 | X19: =ROUND(W19/43.56,2) -> 0
A20: 11008409 | B20: =H20>0 -> FALSE | D20: {=IFERROR( _xlfn.TEXTJOIN( "; ", TRUE, _xlfn._xlws.FILTER( TEXT(PRICING[Rebate $],"$#,##0.00") & " off on " & IF( (PRICING[Min Qty]="") + (PRICING[Min Qty]=0), "1 unit", PRICING[Min Qty] & " units" ), (PRICING[SKU]=$A20) * (PRICING[Rebate $]<>"") * (PRICING[Rebate $]<>0) ) ), "n/a" )} -> $5.00 off on 1 unit | E20: =_xlfn.XLOOKUP(A20, PRICING[SKU], PRICING[Product], "") -> Dismiss® NXT Herbicide | F20: =_xlfn.XLOOKUP(A20, PRICING[SKU], PRICING[Size], "") -> 10 oz | G20: =IF(_xlfn.XLOOKUP(A20,PRICING[SKU],PRICING[Indication])="I","Insecticide", IF(_xlfn.XLOOKUP(A20,PRICING[SKU],PRICING[Indication])="H","Herbicide", IF(_xlfn.XLOOKUP(A20,PRICING[SKU],PRICING[Indication])="F","Fungicide", IF(_xlfn.XLOOKUP(A20,PRICING[SKU],PRICING[Indication])="PGR","PGR","")))) -> Herbicide | I20: =INDEX(PRICING[2026 In-Season Price],MATCH(A20,PRICING[SKU],0)) -> 99.1 | J20: =IF(H20*I20= 0,"",ROUND(H20*I20,2)) | K20: =INDEX(PRICING[NOW Price],MATCH(A20,PRICING[SKU],0)) -> 94.3 | L20: =IF(H20*K20= 0,"",ROUND(H20*K20,2)) | M20: =INDEX(Rebate_Lookup[Instances],MATCH(A20,Rebate_Lookup[SKU CODE],0)) -> 1 | N20: =IF(H20="","",INDEX(Rebate_Lookup[Qualified Rebate Tier],MATCH(A20,Rebate_Lookup[SKU CODE],0))) | O20: =IF(OR(H20="",N20=""),"", IF(N20=1,INDEX(Rebate_Lookup[REB_MOQ_1],MATCH(A20,Rebate_Lookup[SKU CODE],0)), IF(N20=2,INDEX(Rebate_Lookup[REB_MOQ_2],MATCH(A20,Rebate_Lookup[SKU CODE],0)), IF(N20=3,INDEX(Rebate_Lookup[REB_MOQ_3],MATCH(A20,Rebate_Lookup[SKU CODE],0)), IF(N20=4,INDEX(Rebate_Lookup[REB_MOQ_4],MATCH(A20,Rebate_Lookup[SKU CODE],0)), "#err"))))) | P20: =IF(L41>5000,IF(OR(O20=0,O20=""),"",ROUND(H20*O20,2)),"") | Q20: =IF( H20>0, IF( ISNUMBER(SEARCH("*Specticle**FLO*",E20)), IF( AND(_xlfn.XLOOKUP(A20,PRICING[SKU],PRICING[October Bonus],FALSE),$R$10="YES"), ROUND(L20*$G$86,2), "N/A" ), IFERROR(IF(_xlfn.XLOOKUP(A20,PRICING[SKU],PRICING[October Bonus],FALSE),ROUND(L20*SUM($G$83:$G$86),2),ROUND(L20*SUM($G$83:$G$85),2)),"") ), "" ) | R20: =IFERROR(ROUND((L20-SUM(P20:Q20))/H20,2),"") | S20: =IF(AND(H20<>"",H20>0), ROUND(H20*R20,2),"") | T20: {=IF(OR(H20="",H20=0), ROUND(_xlfn.XLOOKUP(1,(PRICING[SKU]=A20)*(PRICING[Set]=1),PRICING[Standard Use Rate (oz/M)]),2),ROUND( _xlfn.XLOOKUP( 1, (PRICING[SKU]=A20)* (PRICING[Set]=IF( _xlfn.XLOOKUP(A20,Rebate_Lookup[SKU CODE],Rebate_Lookup[MOQ_2])=0, 1, IF( AND( _xlfn.XLOOKUP(A20,Rebate_Lookup[SKU CODE],Rebate_Lookup[MOQ_3])=0, H20>=_xlfn.XLOOKUP(A20,Rebate_Lookup[SKU CODE],Rebate_Lookup[MOQ_2]) ), 2, IF( AND( H20>=_xlfn.XLOOKUP(A20,Rebate_Lookup[SKU CODE],Rebate_Lookup[MOQ_1]), H20<_xlfn.XLOOKUP(A20,Rebate_Lookup[SKU CODE],Rebate_Lookup[MOQ_2]) ), 1, IF( AND( H20>=_xlfn.XLOOKUP(A20,Rebate_Lookup[SKU CODE],Rebate_Lookup[MOQ_2]), OR( _xlfn.XLOOKUP(A20,Rebate_Lookup[SKU CODE],Rebate_Lookup[MOQ_3])=0, H20<_xlfn.XLOOKUP(A20,Rebate_Lookup[SKU CODE],Rebate_Lookup[MOQ_3]) ) ), 2, IF( OR( AND( _xlfn.XLOOKUP(A20,Rebate_Lookup[SKU CODE],Rebate_Lookup[MOQ_4])=0, H20>=_xlfn.XLOOKUP(A20,Rebate_Lookup[SKU CODE],Rebate_Lookup[MOQ_3]) ), AND( _xlfn.XLOOKUP(A20,Rebate_Lookup[SKU CODE],Rebate_Lookup[MOQ_4])>0, H20>=_xlfn.XLOOKUP(A20,Rebate_Lookup[SKU CODE],Rebate_Lookup[MOQ_3]), H20<_xlfn.XLOOKUP(A20,Rebate_Lookup[SKU CODE],Rebate_Lookup[MOQ_4]) ) ), 3, IF( AND( _xlfn.XLOOKUP(A20,Rebate_Lookup[SKU CODE],Rebate_Lookup[MOQ_4])>0, H20>=_xlfn.XLOOKUP(A20,Rebate_Lookup[SKU CODE],Rebate_Lookup[MOQ_4]) ), 4, 1 ) ) ) ) ) )), PRICING[Standard Use Rate (oz/M)] ), 2 ))} -> 0.23 | U20: =ROUND(T20*43.56,2) -> 10.02 | V20: =IF(AND(TRIM(U20)<>"",TRIM(H20)<>""),ROUND(H20*INDEX(PRICING[Package Ounces],MATCH(A20,PRICING[SKU],0))/U20,2),"") | W20: =IF(H20<>0,ROUND(S20/V20,2),0) -> 0 | X20: =ROUND(W20/43.56,2) -> 0
A21: 11008589 | B21: =H21>0 -> FALSE | D21: {=IFERROR( _xlfn.TEXTJOIN( "; ", TRUE, _xlfn._xlws.FILTER( TEXT(PRICING[Rebate $],"$#,##0.00") & " off on " & IF( (PRICING[Min Qty]="") + (PRICING[Min Qty]=0), "1 unit", PRICING[Min Qty] & " units" ), (PRICING[SKU]=$A21) * (PRICING[Rebate $]<>"") * (PRICING[Rebate $]<>0) ) ), "n/a" )} -> $24.00 off on 1-3 units; $58.00 off on 4+ units | E21: =_xlfn.XLOOKUP(A21, PRICING[SKU], PRICING[Product], "") -> Dismiss® NXT Herbicide | F21: =_xlfn.XLOOKUP(A21, PRICING[SKU], PRICING[Size], "") -> 60 oz | G21: =IF(_xlfn.XLOOKUP(A21,PRICING[SKU],PRICING[Indication])="I","Insecticide", IF(_xlfn.XLOOKUP(A21,PRICING[SKU],PRICING[Indication])="H","Herbicide", IF(_xlfn.XLOOKUP(A21,PRICING[SKU],PRICING[Indication])="F","Fungicide", IF(_xlfn.XLOOKUP(A21,PRICING[SKU],PRICING[Indication])="PGR","PGR","")))) -> Herbicide | I21: =INDEX(PRICING[2026 In-Season Price],MATCH(A21,PRICING[SKU],0)) -> 528 | J21: =IF(H21*I21= 0,"",ROUND(H21*I21,2)) | K21: =INDEX(PRICING[NOW Price],MATCH(A21,PRICING[SKU],0)) -> 512.4 | L21: =IF(H21*K21= 0,"",ROUND(H21*K21,2)) | M21: =INDEX(Rebate_Lookup[Instances],MATCH(A21,Rebate_Lookup[SKU CODE],0)) -> 2 | N21: =IF(H21="","",INDEX(Rebate_Lookup[Qualified Rebate Tier],MATCH(A21,Rebate_Lookup[SKU CODE],0))) | O21: =IF(OR(H21="",N21=""),"", IF(N21=1,INDEX(Rebate_Lookup[REB_MOQ_1],MATCH(A21,Rebate_Lookup[SKU CODE],0)), IF(N21=2,INDEX(Rebate_Lookup[REB_MOQ_2],MATCH(A21,Rebate_Lookup[SKU CODE],0)), IF(N21=3,INDEX(Rebate_Lookup[REB_MOQ_3],MATCH(A21,Rebate_Lookup[SKU CODE],0)), IF(N21=4,INDEX(Rebate_Lookup[REB_MOQ_4],MATCH(A21,Rebate_Lookup[SKU CODE],0)), "#err"))))) | P21: =IF(L41>5000,IF(OR(O21=0,O21=""),"",ROUND(H21*O21,2)),"") | Q21: =IF( H21>0, IF( ISNUMBER(SEARCH("*Specticle**FLO*",E21)), IF( AND(_xlfn.XLOOKUP(A21,PRICING[SKU],PRICING[October Bonus],FALSE),$R$10="YES"), ROUND(L21*$G$86,2), "N/A" ), IFERROR(IF(_xlfn.XLOOKUP(A21,PRICING[SKU],PRICING[October Bonus],FALSE),ROUND(L21*SUM($G$83:$G$86),2),ROUND(L21*SUM($G$83:$G$85),2)),"") ), "" ) | R21: =IFERROR(ROUND((L21-SUM(P21:Q21))/H21,2),"") | S21: =IF(AND(H21<>"",H21>0), ROUND(H21*R21,2),"") | T21: {=IF(OR(H21="",H21=0), ROUND(_xlfn.XLOOKUP(1,(PRICING[SKU]=A21)*(PRICING[Set]=1),PRICING[Standard Use Rate (oz/M)]),2),ROUND( _xlfn.XLOOKUP( 1, (PRICING[SKU]=A21)* (PRICING[Set]=IF( _xlfn.XLOOKUP(A21,Rebate_Lookup[SKU CODE],Rebate_Lookup[MOQ_2])=0, 1, IF( AND( _xlfn.XLOOKUP(A21,Rebate_Lookup[SKU CODE],Rebate_Lookup[MOQ_3])=0, H21>=_xlfn.XLOOKUP(A21,Rebate_Lookup[SKU CODE],Rebate_Lookup[MOQ_2]) ), 2, IF( AND( H21>=_xlfn.XLOOKUP(A21,Rebate_Lookup[SKU CODE],Rebate_Lookup[MOQ_1]), H21<_xlfn.XLOOKUP(A21,Rebate_Lookup[SKU CODE],Rebate_Lookup[MOQ_2]) ), 1, IF( AND( H21>=_xlfn.XLOOKUP(A21,Rebate_Lookup[SKU CODE],Rebate_Lookup[MOQ_2]), OR( _xlfn.XLOOKUP(A21,Rebate_Lookup[SKU CODE],Rebate_Lookup[MOQ_3])=0, H21<_xlfn.XLOOKUP(A21,Rebate_Lookup[SKU CODE],Rebate_Lookup[MOQ_3]) ) ), 2, IF( OR( AND( _xlfn.XLOOKUP(A21,Rebate_Lookup[SKU CODE],Rebate_Lookup[MOQ_4])=0, H21>=_xlfn.XLOOKUP(A21,Rebate_Lookup[SKU CODE],Rebate_Lookup[MOQ_3]) ), AND( _xlfn.XLOOKUP(A21,Rebate_Lookup[SKU CODE],Rebate_Lookup[MOQ_4])>0, H21>=_xlfn.XLOOKUP(A21,Rebate_Lookup[SKU CODE],Rebate_Lookup[MOQ_3]), H21<_xlfn.XLOOKUP(A21,Rebate_Lookup[SKU CODE],Rebate_Lookup[MOQ_4]) ) ), 3, IF( AND( _xlfn.XLOOKUP(A21,Rebate_Lookup[SKU CODE],Rebate_Lookup[MOQ_4])>0, H21>=_xlfn.XLOOKUP(A21,Rebate_Lookup[SKU CODE],Rebate_Lookup[MOQ_4]) ), 4, 1 ) ) ) ) ) )), PRICING[Standard Use Rate (oz/M)] ), 2 ))} -> 0.23 | U21: =ROUND(T21*43.56,2) -> 10.02 | V21: =IF(AND(TRIM(U21)<>"",TRIM(H21)<>""),ROUND(H21*INDEX(PRICING[Package Ounces],MATCH(A21,PRICING[SKU],0))/U21,2),"") | W21: =IF(H21<>0,ROUND(S21/V21,2),0) -> 0 | X21: =ROUND(W21/43.56,2) -> 0
A22: 11015390 | B22: =H22>0 -> FALSE | D22: {=IFERROR( _xlfn.TEXTJOIN( "; ", TRUE, _xlfn._xlws.FILTER( TEXT(PRICING[Rebate $],"$#,##0.00") & " off on " & IF( (PRICING[Min Qty]="") + (PRICING[Min Qty]=0), "1 unit", PRICING[Min Qty] & " units" ), (PRICING[SKU]=$A22) * (PRICING[Rebate $]<>"") * (PRICING[Rebate $]<>0) ) ), "n/a" )} -> $185.00 off on 4+ units | E22: =_xlfn.XLOOKUP(A22, PRICING[SKU], PRICING[Product], "") -> Durentis® Insecticide | F22: =_xlfn.XLOOKUP(A22, PRICING[SKU], PRICING[Size], "") -> 16 oz | G22: =IF(_xlfn.XLOOKUP(A22,PRICING[SKU],PRICING[Indication])="I","Insecticide", IF(_xlfn.XLOOKUP(A22,PRICING[SKU],PRICING[Indication])="H","Herbicide", IF(_xlfn.XLOOKUP(A22,PRICING[SKU],PRICING[Indication])="F","Fungicide", IF(_xlfn.XLOOKUP(A22,PRICING[SKU],PRICING[Indication])="PGR","PGR","")))) -> Insecticide | I22: =INDEX(PRICING[2026 In-Season Price],MATCH(A22,PRICING[SKU],0)) -> 658.72 | J22: =IF(H22*I22= 0,"",ROUND(H22*I22,2)) | K22: =INDEX(PRICING[NOW Price],MATCH(A22,PRICING[SKU],0)) -> 560.64 | L22: =IF(H22*K22= 0,"",ROUND(H22*K22,2)) | M22: =INDEX(Rebate_Lookup[Instances],MATCH(A22,Rebate_Lookup[SKU CODE],0)) -> 2 | N22: =IF(H22="","",INDEX(Rebate_Lookup[Qualified Rebate Tier],MATCH(A22,Rebate_Lookup[SKU CODE],0))) | O22: =IF(OR(H22="",N22=""),"", IF(N22=1,INDEX(Rebate_Lookup[REB_MOQ_1],MATCH(A22,Rebate_Lookup[SKU CODE],0)), IF(N22=2,INDEX(Rebate_Lookup[REB_MOQ_2],MATCH(A22,Rebate_Lookup[SKU CODE],0)), IF(N22=3,INDEX(Rebate_Lookup[REB_MOQ_3],MATCH(A22,Rebate_Lookup[SKU CODE],0)), IF(N22=4,INDEX(Rebate_Lookup[REB_MOQ_4],MATCH(A22,Rebate_Lookup[SKU CODE],0)), "#err"))))) | P22: =IF(L41>5000,IF(OR(O22=0,O22=""),"",ROUND(H22*O22,2)),"") | Q22: =IF( H22>0, IF( ISNUMBER(SEARCH("*Specticle**FLO*",E22)), IF( AND(_xlfn.XLOOKUP(A22,PRICING[SKU],PRICING[October Bonus],FALSE),$R$10="YES"), ROUND(L22*$G$86,2), "N/A" ), IFERROR(IF(_xlfn.XLOOKUP(A22,PRICING[SKU],PRICING[October Bonus],FALSE),ROUND(L22*SUM($G$83:$G$86),2),ROUND(L22*SUM($G$83:$G$85),2)),"") ), "" ) | R22: =IFERROR(ROUND((L22-SUM(P22:Q22))/H22,2),"") | S22: =IF(AND(H22<>"",H22>0), ROUND(H22*R22,2),"") | T22: {=IF(OR(H22="",H22=0), ROUND(_xlfn.XLOOKUP(1,(PRICING[SKU]=A22)*(PRICING[Set]=1),PRICING[Standard Use Rate (oz/M)]),2),ROUND( _xlfn.XLOOKUP( 1, (PRICING[SKU]=A22)* (PRICING[Set]=IF( _xlfn.XLOOKUP(A22,Rebate_Lookup[SKU CODE],Rebate_Lookup[MOQ_2])=0, 1, IF( AND( _xlfn.XLOOKUP(A22,Rebate_Lookup[SKU CODE],Rebate_Lookup[MOQ_3])=0, H22>=_xlfn.XLOOKUP(A22,Rebate_Lookup[SKU CODE],Rebate_Lookup[MOQ_2]) ), 2, IF( AND( H22>=_xlfn.XLOOKUP(A22,Rebate_Lookup[SKU CODE],Rebate_Lookup[MOQ_1]), H22<_xlfn.XLOOKUP(A22,Rebate_Lookup[SKU CODE],Rebate_Lookup[MOQ_2]) ), 1, IF( AND( H22>=_xlfn.XLOOKUP(A22,Rebate_Lookup[SKU CODE],Rebate_Lookup[MOQ_2]), OR( _xlfn.XLOOKUP(A22,Rebate_Lookup[SKU CODE],Rebate_Lookup[MOQ_3])=0, H22<_xlfn.XLOOKUP(A22,Rebate_Lookup[SKU CODE],Rebate_Lookup[MOQ_3]) ) ), 2, IF( OR( AND( _xlfn.XLOOKUP(A22,Rebate_Lookup[SKU CODE],Rebate_Lookup[MOQ_4])=0, H22>=_xlfn.XLOOKUP(A22,Rebate_Lookup[SKU CODE],Rebate_Lookup[MOQ_3]) ), AND( _xlfn.XLOOKUP(A22,Rebate_Lookup[SKU CODE],Rebate_Lookup[MOQ_4])>0, H22>=_xlfn.XLOOKUP(A22,Rebate_Lookup[SKU CODE],Rebate_Lookup[MOQ_3]), H22<_xlfn.XLOOKUP(A22,Rebate_Lookup[SKU CODE],Rebate_Lookup[MOQ_4]) ) ), 3, IF( AND( _xlfn.XLOOKUP(A22,Rebate_Lookup[SKU CODE],Rebate_Lookup[MOQ_4])>0, H22>=_xlfn.XLOOKUP(A22,Rebate_Lookup[SKU CODE],Rebate_Lookup[MOQ_4]) ), 4, 1 ) ) ) ) ) )), PRICING[Standard Use Rate (oz/M)] ), 2 ))} -> 0.06 | U22: =ROUND(T22*43.56,2) -> 2.61 | V22: =IF(AND(TRIM(U22)<>"",TRIM(H22)<>""),ROUND(H22*INDEX(PRICING[Package Ounces],MATCH(A22,PRICING[SKU],0))/U22,2),"") | W22: =IF(H22<>0,ROUND(S22/V22,2),0) -> 0 | X22: =ROUND(W22/43.56,2) -> 0
A23: 11015391 | B23: =H23>0 -> FALSE | D23: {=IFERROR( _xlfn.TEXTJOIN( "; ", TRUE, _xlfn._xlws.FILTER( TEXT(PRICING[Rebate $],"$#,##0.00") & " off on " & IF( (PRICING[Min Qty]="") + (PRICING[Min Qty]=0), "1 unit", PRICING[Min Qty] & " units" ), (PRICING[SKU]=$A23) * (PRICING[Rebate $]<>"") * (PRICING[Rebate $]<>0) ) ), "n/a" )} -> $482.00 off on 2-3 units; $650.00 off on 4+ units | E23: =_xlfn.XLOOKUP(A23, PRICING[SKU], PRICING[Product], "") -> Durentis® Insecticide | F23: =_xlfn.XLOOKUP(A23, PRICING[SKU], PRICING[Size], "") -> 64 oz | G23: =IF(_xlfn.XLOOKUP(A23,PRICING[SKU],PRICING[Indication])="I","Insecticide", IF(_xlfn.XLOOKUP(A23,PRICING[SKU],PRICING[Indication])="H","Herbicide", IF(_xlfn.XLOOKUP(A23,PRICING[SKU],PRICING[Indication])="F","Fungicide", IF(_xlfn.XLOOKUP(A23,PRICING[SKU],PRICING[Indication])="PGR","PGR","")))) -> Insecticide | I23: =INDEX(PRICING[2026 In-Season Price],MATCH(A23,PRICING[SKU],0)) -> 2470.4 | J23: =IF(H23*I23= 0,"",ROUND(H23*I23,2)) | K23: =INDEX(PRICING[NOW Price],MATCH(A23,PRICING[SKU],0)) -> 2100.48 | L23: =IF(H23*K23= 0,"",ROUND(H23*K23,2)) | M23: =INDEX(Rebate_Lookup[Instances],MATCH(A23,Rebate_Lookup[SKU CODE],0)) -> 3 | N23: =IF(H23="","",INDEX(Rebate_Lookup[Qualified Rebate Tier],MATCH(A23,Rebate_Lookup[SKU CODE],0))) | O23: =IF(OR(H23="",N23=""),"", IF(N23=1,INDEX(Rebate_Lookup[REB_MOQ_1],MATCH(A23,Rebate_Lookup[SKU CODE],0)), IF(N23=2,INDEX(Rebate_Lookup[REB_MOQ_2],MATCH(A23,Rebate_Lookup[SKU CODE],0)), IF(N23=3,INDEX(Rebate_Lookup[REB_MOQ_3],MATCH(A23,Rebate_Lookup[SKU CODE],0)), IF(N23=4,INDEX(Rebate_Lookup[REB_MOQ_4],MATCH(A23,Rebate_Lookup[SKU CODE],0)), "#err"))))) | P23: =IF(L41>5000,IF(OR(O23=0,O23=""),"",ROUND(H23*O23,2)),"") | Q23: =IF( H23>0, IF( ISNUMBER(SEARCH("*Specticle**FLO*",E23)), IF( AND(_xlfn.XLOOKUP(A23,PRICING[SKU],PRICING[October Bonus],FALSE),$R$10="YES"), ROUND(L23*$G$86,2), "N/A" ), IFERROR(IF(_xlfn.XLOOKUP(A23,PRICING[SKU],PRICING[October Bonus],FALSE),ROUND(L23*SUM($G$83:$G$86),2),ROUND(L23*SUM($G$83:$G$85),2)),"") ), "" ) | R23: =IFERROR(ROUND((L23-SUM(P23:Q23))/H23,2),"") | S23: =IF(AND(H23<>"",H23>0), ROUND(H23*R23,2),"") | T23: {=IF(OR(H23="",H23=0), ROUND(_xlfn.XLOOKUP(1,(PRICING[SKU]=A23)*(PRICING[Set]=1),PRICING[Standard Use Rate (oz/M)]),2),ROUND( _xlfn.XLOOKUP( 1, (PRICING[SKU]=A23)* (PRICING[Set]=IF( _xlfn.XLOOKUP(A23,Rebate_Lookup[SKU CODE],Rebate_Lookup[MOQ_2])=0, 1, IF( AND( _xlfn.XLOOKUP(A23,Rebate_Lookup[SKU CODE],Rebate_Lookup[MOQ_3])=0, H23>=_xlfn.XLOOKUP(A23,Rebate_Lookup[SKU CODE],Rebate_Lookup[MOQ_2]) ), 2, IF( AND( H23>=_xlfn.XLOOKUP(A23,Rebate_Lookup[SKU CODE],Rebate_Lookup[MOQ_1]), H23<_xlfn.XLOOKUP(A23,Rebate_Lookup[SKU CODE],Rebate_Lookup[MOQ_2]) ), 1, IF( AND( H23>=_xlfn.XLOOKUP(A23,Rebate_Lookup[SKU CODE],Rebate_Lookup[MOQ_2]), OR( _xlfn.XLOOKUP(A23,Rebate_Lookup[SKU CODE],Rebate_Lookup[MOQ_3])=0, H23<_xlfn.XLOOKUP(A23,Rebate_Lookup[SKU CODE],Rebate_Lookup[MOQ_3]) ) ), 2, IF( OR( AND( _xlfn.XLOOKUP(A23,Rebate_Lookup[SKU CODE],Rebate_Lookup[MOQ_4])=0, H23>=_xlfn.XLOOKUP(A23,Rebate_Lookup[SKU CODE],Rebate_Lookup[MOQ_3]) ), AND( _xlfn.XLOOKUP(A23,Rebate_Lookup[SKU CODE],Rebate_Lookup[MOQ_4])>0, H23>=_xlfn.XLOOKUP(A23,Rebate_Lookup[SKU CODE],Rebate_Lookup[MOQ_3]), H23<_xlfn.XLOOKUP(A23,Rebate_Lookup[SKU CODE],Rebate_Lookup[MOQ_4]) ) ), 3, IF( AND( _xlfn.XLOOKUP(A23,Rebate_Lookup[SKU CODE],Rebate_Lookup[MOQ_4])>0, H23>=_xlfn.XLOOKUP(A23,Rebate_Lookup[SKU CODE],Rebate_Lookup[MOQ_4]) ), 4, 1 ) ) ) ) ) )), PRICING[Standard Use Rate (oz/M)] ), 2 ))} -> 0.06 | U23: =ROUND(T23*43.56,2) -> 2.61 | V23: =IF(AND(TRIM(U23)<>"",TRIM(H23)<>""),ROUND(H23*INDEX(PRICING[Package Ounces],MATCH(A23,PRICING[SKU],0))/U23,2),"") | W23: =IF(H23<>0,ROUND(S23/V23,2),0) -> 0 | X23: =ROUND(W23/43.56,2) -> 0
A24: 11008464 | B24: =H24>0 -> FALSE | D24: {=IFERROR( _xlfn.TEXTJOIN( "; ", TRUE, _xlfn._xlws.FILTER( TEXT(PRICING[Rebate $],"$#,##0.00") & " off on " & IF( (PRICING[Min Qty]="") + (PRICING[Min Qty]=0), "1 unit", PRICING[Min Qty] & " units" ), (PRICING[SKU]=$A24) * (PRICING[Rebate $]<>"") * (PRICING[Rebate $]<>0) ) ), "n/a" )} -> $47.00 off on 8+ units | E24: =_xlfn.XLOOKUP(A24, PRICING[SKU], PRICING[Product], "") -> Echelon® 4SC Herbicide | F24: =_xlfn.XLOOKUP(A24, PRICING[SKU], PRICING[Size], "") -> 1 gal | G24: =IF(_xlfn.XLOOKUP(A24,PRICING[SKU],PRICING[Indication])="I","Insecticide", IF(_xlfn.XLOOKUP(A24,PRICING[SKU],PRICING[Indication])="H","Herbicide", IF(_xlfn.XLOOKUP(A24,PRICING[SKU],PRICING[Indication])="F","Fungicide", IF(_xlfn.XLOOKUP(A24,PRICING[SKU],PRICING[Indication])="PGR","PGR","")))) -> Herbicide | I24: =INDEX(PRICING[2026 In-Season Price],MATCH(A24,PRICING[SKU],0)) -> 464.64 | J24: =IF(H24*I24= 0,"",ROUND(H24*I24,2)) | K24: =INDEX(PRICING[NOW Price],MATCH(A24,PRICING[SKU],0)) -> 464.64 | L24: =IF(H24*K24= 0,"",ROUND(H24*K24,2)) | M24: =INDEX(Rebate_Lookup[Instances],MATCH(A24,Rebate_Lookup[SKU CODE],0)) -> 2 | N24: =IF(H24="","",INDEX(Rebate_Lookup[Qualified Rebate Tier],MATCH(A24,Rebate_Lookup[SKU CODE],0))) | O24: =IF(OR(H24="",N24=""),"", IF(N24=1,INDEX(Rebate_Lookup[REB_MOQ_1],MATCH(A24,Rebate_Lookup[SKU CODE],0)), IF(N24=2,INDEX(Rebate_Lookup[REB_MOQ_2],MATCH(A24,Rebate_Lookup[SKU CODE],0)), IF(N24=3,INDEX(Rebate_Lookup[REB_MOQ_3],MATCH(A24,Rebate_Lookup[SKU CODE],0)), IF(N24=4,INDEX(Rebate_Lookup[REB_MOQ_4],MATCH(A24,Rebate_Lookup[SKU CODE],0)), "#err"))))) | P24: =IF(L41>5000,IF(OR(O24=0,O24=""),"",ROUND(H24*O24,2)),"") | Q24: =IF( H24>0, IF( ISNUMBER(SEARCH("*Specticle**FLO*",E24)), IF( AND(_xlfn.XLOOKUP(A24,PRICING[SKU],PRICING[October Bonus],FALSE),$R$10="YES"), ROUND(L24*$G$86,2), "N/A" ), IFERROR(IF(_xlfn.XLOOKUP(A24,PRICING[SKU],PRICING[October Bonus],FALSE),ROUND(L24*SUM($G$83:$G$86),2),ROUND(L24*SUM($G$83:$G$85),2)),"") ), "" ) | R24: =IFERROR(ROUND((L24-SUM(P24:Q24))/H24,2),"") | S24: =IF(AND(H24<>"",H24>0), ROUND(H24*R24,2),"") | T24: {=IF(OR(H24="",H24=0), ROUND(_xlfn.XLOOKUP(1,(PRICING[SKU]=A24)*(PRICING[Set]=1),PRICING[Standard Use Rate (oz/M)]),2),ROUND( _xlfn.XLOOKUP( 1, (PRICING[SKU]=A24)* (PRICING[Set]=IF( _xlfn.XLOOKUP(A24,Rebate_Lookup[SKU CODE],Rebate_Lookup[MOQ_2])=0, 1, IF( AND( _xlfn.XLOOKUP(A24,Rebate_Lookup[SKU CODE],Rebate_Lookup[MOQ_3])=0, H24>=_xlfn.XLOOKUP(A24,Rebate_Lookup[SKU CODE],Rebate_Lookup[MOQ_2]) ), 2, IF( AND( H24>=_xlfn.XLOOKUP(A24,Rebate_Lookup[SKU CODE],Rebate_Lookup[MOQ_1]), H24<_xlfn.XLOOKUP(A24,Rebate_Lookup[SKU CODE],Rebate_Lookup[MOQ_2]) ), 1, IF( AND( H24>=_xlfn.XLOOKUP(A24,Rebate_Lookup[SKU CODE],Rebate_Lookup[MOQ_2]), OR( _xlfn.XLOOKUP(A24,Rebate_Lookup[SKU CODE],Rebate_Lookup[MOQ_3])=0, H24<_xlfn.XLOOKUP(A24,Rebate_Lookup[SKU CODE],Rebate_Lookup[MOQ_3]) ) ), 2, IF( OR( AND( _xlfn.XLOOKUP(A24,Rebate_Lookup[SKU CODE],Rebate_Lookup[MOQ_4])=0, H24>=_xlfn.XLOOKUP(A24,Rebate_Lookup[SKU CODE],Rebate_Lookup[MOQ_3]) ), AND( _xlfn.XLOOKUP(A24,Rebate_Lookup[SKU CODE],Rebate_Lookup[MOQ_4])>0, H24>=_xlfn.XLOOKUP(A24,Rebate_Lookup[SKU CODE],Rebate_Lookup[MOQ_3]), H24<_xlfn.XLOOKUP(A24,Rebate_Lookup[SKU CODE],Rebate_Lookup[MOQ_4]) ) ), 3, IF( AND( _xlfn.XLOOKUP(A24,Rebate_Lookup[SKU CODE],Rebate_Lookup[MOQ_4])>0, H24>=_xlfn.XLOOKUP(A24,Rebate_Lookup[SKU CODE],Rebate_Lookup[MOQ_4]) ), 4, 1 ) ) ) ) ) )), PRICING[Standard Use Rate (oz/M)] ), 2 ))} -> 0.55 | U24: =ROUND(T24*43.56,2) -> 23.96 | V24: =IF(AND(TRIM(U24)<>"",TRIM(H24)<>""),ROUND(H24*INDEX(PRICING[Package Ounces],MATCH(A24,PRICING[SKU],0))/U24,2),"") | W24: =IF(H24<>0,ROUND(S24/V24,2),0) -> 0 | X24: =ROUND(W24/43.56,2) -> 0
A25: 11008557 | B25: =H25>0 -> FALSE | D25: {=IFERROR( _xlfn.TEXTJOIN( "; ", TRUE, _xlfn._xlws.FILTER( TEXT(PRICING[Rebate $],"$#,##0.00") & " off on " & IF( (PRICING[Min Qty]="") + (PRICING[Min Qty]=0), "1 unit", PRICING[Min Qty] & " units" ), (PRICING[SKU]=$A25) * (PRICING[Rebate $]<>"") * (PRICING[Rebate $]<>0) ) ), "n/a" )} -> $395.00 off on 4+ units | E25: =_xlfn.XLOOKUP(A25, PRICING[SKU], PRICING[Product], "") -> Fame® SC Fungicide | F25: =_xlfn.XLOOKUP(A25, PRICING[SKU], PRICING[Size], "") -> 64 oz | G25: =IF(_xlfn.XLOOKUP(A25,PRICING[SKU],PRICING[Indication])="I","Insecticide", IF(_xlfn.XLOOKUP(A25,PRICING[SKU],PRICING[Indication])="H","Herbicide", IF(_xlfn.XLOOKUP(A25,PRICING[SKU],PRICING[Indication])="F","Fungicide", IF(_xlfn.XLOOKUP(A25,PRICING[SKU],PRICING[Indication])="PGR","PGR","")))) -> Fungicide | I25: =INDEX(PRICING[2026 In-Season Price],MATCH(A25,PRICING[SKU],0)) -> 1652.48 | J25: =IF(H25*I25= 0,"",ROUND(H25*I25,2)) | K25: =INDEX(PRICING[NOW Price],MATCH(A25,PRICING[SKU],0)) -> 1652.48 | L25: =IF(H25*K25= 0,"",ROUND(H25*K25,2)) | M25: =INDEX(Rebate_Lookup[Instances],MATCH(A25,Rebate_Lookup[SKU CODE],0)) -> 2 | N25: =IF(H25="","",INDEX(Rebate_Lookup[Qualified Rebate Tier],MATCH(A25,Rebate_Lookup[SKU CODE],0))) | O25: =IF(OR(H25="",N25=""),"", IF(N25=1,INDEX(Rebate_Lookup[REB_MOQ_1],MATCH(A25,Rebate_Lookup[SKU CODE],0)), IF(N25=2,INDEX(Rebate_Lookup[REB_MOQ_2],MATCH(A25,Rebate_Lookup[SKU CODE],0)), IF(N25=3,INDEX(Rebate_Lookup[REB_MOQ_3],MATCH(A25,Rebate_Lookup[SKU CODE],0)), IF(N25=4,INDEX(Rebate_Lookup[REB_MOQ_4],MATCH(A25,Rebate_Lookup[SKU CODE],0)), "#err"))))) | P25: =IF(L41>5000,IF(OR(O25=0,O25=""),"",ROUND(H25*O25,2)),"") | Q25: =IF( H25>0, IF( ISNUMBER(SEARCH("*Specticle**FLO*",E25)), IF( AND(_xlfn.XLOOKUP(A25,PRICING[SKU],PRICING[October Bonus],FALSE),$R$10="YES"), ROUND(L25*$G$86,2), "N/A" ), IFERROR(IF(_xlfn.XLOOKUP(A25,PRICING[SKU],PRICING[October Bonus],FALSE),ROUND(L25*SUM($G$83:$G$86),2),ROUND(L25*SUM($G$83:$G$85),2)),"") ), "" ) | R25: =IFERROR(ROUND((L25-SUM(P25:Q25))/H25,2),"") | S25: =IF(AND(H25<>"",H25>0), ROUND(H25*R25,2),"") | T25: {=IF(OR(H25="",H25=0), ROUND(_xlfn.XLOOKUP(1,(PRICING[SKU]=A25)*(PRICING[Set]=1),PRICING[Standard Use Rate (oz/M)]),2),ROUND( _xlfn.XLOOKUP( 1, (PRICING[SKU]=A25)* (PRICING[Set]=IF( _xlfn.XLOOKUP(A25,Rebate_Lookup[SKU CODE],Rebate_Lookup[MOQ_2])=0, 1, IF( AND( _xlfn.XLOOKUP(A25,Rebate_Lookup[SKU CODE],Rebate_Lookup[MOQ_3])=0, H25>=_xlfn.XLOOKUP(A25,Rebate_Lookup[SKU CODE],Rebate_Lookup[MOQ_2]) ), 2, IF( AND( H25>=_xlfn.XLOOKUP(A25,Rebate_Lookup[SKU CODE],Rebate_Lookup[MOQ_1]), H25<_xlfn.XLOOKUP(A25,Rebate_Lookup[SKU CODE],Rebate_Lookup[MOQ_2]) ), 1, IF( AND( H25>=_xlfn.XLOOKUP(A25,Rebate_Lookup[SKU CODE],Rebate_Lookup[MOQ_2]), OR( _xlfn.XLOOKUP(A25,Rebate_Lookup[SKU CODE],Rebate_Lookup[MOQ_3])=0, H25<_xlfn.XLOOKUP(A25,Rebate_Lookup[SKU CODE],Rebate_Lookup[MOQ_3]) ) ), 2, IF( OR( AND( _xlfn.XLOOKUP(A25,Rebate_Lookup[SKU CODE],Rebate_Lookup[MOQ_4])=0, H25>=_xlfn.XLOOKUP(A25,Rebate_Lookup[SKU CODE],Rebate_Lookup[MOQ_3]) ), AND( _xlfn.XLOOKUP(A25,Rebate_Lookup[SKU CODE],Rebate_Lookup[MOQ_4])>0, H25>=_xlfn.XLOOKUP(A25,Rebate_Lookup[SKU CODE],Rebate_Lookup[MOQ_3]), H25<_xlfn.XLOOKUP(A25,Rebate_Lookup[SKU CODE],Rebate_Lookup[MOQ_4]) ) ), 3, IF( AND( _xlfn.XLOOKUP(A25,Rebate_Lookup[SKU CODE],Rebate_Lookup[MOQ_4])>0, H25>=_xlfn.XLOOKUP(A25,Rebate_Lookup[SKU CODE],Rebate_Lookup[MOQ_4]) ), 4, 1 ) ) ) ) ) )), PRICING[Standard Use Rate (oz/M)] ), 2 ))} -> 0.36 | U25: =ROUND(T25*43.56,2) -> 15.68 | V25: =IF(AND(TRIM(U25)<>"",TRIM(H25)<>""),ROUND(H25*INDEX(PRICING[Package Ounces],MATCH(A25,PRICING[SKU],0))/U25,2),"") | W25: =IF(H25<>0,ROUND(S25/V25,2),0) -> 0 | X25: =ROUND(W25/43.56,2) -> 0
A26: 11009500 | B26: =H26>0 -> FALSE | D26: {=IFERROR( _xlfn.TEXTJOIN( "; ", TRUE, _xlfn._xlws.FILTER( TEXT(PRICING[Rebate $],"$#,##0.00") & " off on " & IF( (PRICING[Min Qty]="") + (PRICING[Min Qty]=0), "1 unit", PRICING[Min Qty] & " units" ), (PRICING[SKU]=$A26) * (PRICING[Rebate $]<>"") * (PRICING[Rebate $]<>0) ) ), "n/a" )} -> $1,290.00 off on 1-3 units; $1,390.00 off on 4+ units | E26: =_xlfn.XLOOKUP(A26, PRICING[SKU], PRICING[Product], "") -> Fame® SC Fungicide | F26: =_xlfn.XLOOKUP(A26, PRICING[SKU], PRICING[Size], "") -> 2.5 gal | G26: =IF(_xlfn.XLOOKUP(A26,PRICING[SKU],PRICING[Indication])="I","Insecticide", IF(_xlfn.XLOOKUP(A26,PRICING[SKU],PRICING[Indication])="H","Herbicide", IF(_xlfn.XLOOKUP(A26,PRICING[SKU],PRICING[Indication])="F","Fungicide", IF(_xlfn.XLOOKUP(A26,PRICING[SKU],PRICING[Indication])="PGR","PGR","")))) -> Fungicide | I26: =INDEX(PRICING[2026 In-Season Price],MATCH(A26,PRICING[SKU],0)) -> 7462.4 | J26: =IF(H26*I26= 0,"",ROUND(H26*I26,2)) | K26: =INDEX(PRICING[NOW Price],MATCH(A26,PRICING[SKU],0)) -> 7462.4 | L26: =IF(H26*K26= 0,"",ROUND(H26*K26,2)) | M26: =INDEX(Rebate_Lookup[Instances],MATCH(A26,Rebate_Lookup[SKU CODE],0)) -> 2 | N26: =IF(H26="","",INDEX(Rebate_Lookup[Qualified Rebate Tier],MATCH(A26,Rebate_Lookup[SKU CODE],0))) | O26: =IF(OR(H26="",N26=""),"", IF(N26=1,INDEX(Rebate_Lookup[REB_MOQ_1],MATCH(A26,Rebate_Lookup[SKU CODE],0)), IF(N26=2,INDEX(Rebate_Lookup[REB_MOQ_2],MATCH(A26,Rebate_Lookup[SKU CODE],0)), IF(N26=3,INDEX(Rebate_Lookup[REB_MOQ_3],MATCH(A26,Rebate_Lookup[SKU CODE],0)), IF(N26=4,INDEX(Rebate_Lookup[REB_MOQ_4],MATCH(A26,Rebate_Lookup[SKU CODE],0)), "#err"))))) | P26: =IF(L41>5000,IF(OR(O26=0,O26=""),"",ROUND(H26*O26,2)),"") | Q26: =IF( H26>0, IF( ISNUMBER(SEARCH("*Specticle**FLO*",E26)), IF( AND(_xlfn.XLOOKUP(A26,PRICING[SKU],PRICING[October Bonus],FALSE),$R$10="YES"), ROUND(L26*$G$86,2), "N/A" ), IFERROR(IF(_xlfn.XLOOKUP(A26,PRICING[SKU],PRICING[October Bonus],FALSE),ROUND(L26*SUM($G$83:$G$86),2),ROUND(L26*SUM($G$83:$G$85),2)),"") ), "" ) | R26: =IFERROR(ROUND((L26-SUM(P26:Q26))/H26,2),"") | S26: =IF(AND(H26<>"",H26>0), ROUND(H26*R26,2),"") | T26: {=IF(OR(H26="",H26=0), ROUND(_xlfn.XLOOKUP(1,(PRICING[SKU]=A26)*(PRICING[Set]=1),PRICING[Standard Use Rate (oz/M)]),2),ROUND( _xlfn.XLOOKUP( 1, (PRICING[SKU]=A26)* (PRICING[Set]=IF( _xlfn.XLOOKUP(A26,Rebate_Lookup[SKU CODE],Rebate_Lookup[MOQ_2])=0, 1, IF( AND( _xlfn.XLOOKUP(A26,Rebate_Lookup[SKU CODE],Rebate_Lookup[MOQ_3])=0, H26>=_xlfn.XLOOKUP(A26,Rebate_Lookup[SKU CODE],Rebate_Lookup[MOQ_2]) ), 2, IF( AND( H26>=_xlfn.XLOOKUP(A26,Rebate_Lookup[SKU CODE],Rebate_Lookup[MOQ_1]), H26<_xlfn.XLOOKUP(A26,Rebate_Lookup[SKU CODE],Rebate_Lookup[MOQ_2]) ), 1, IF( AND( H26>=_xlfn.XLOOKUP(A26,Rebate_Lookup[SKU CODE],Rebate_Lookup[MOQ_2]), OR( _xlfn.XLOOKUP(A26,Rebate_Lookup[SKU CODE],Rebate_Lookup[MOQ_3])=0, H26<_xlfn.XLOOKUP(A26,Rebate_Lookup[SKU CODE],Rebate_Lookup[MOQ_3]) ) ), 2, IF( OR( AND( _xlfn.XLOOKUP(A26,Rebate_Lookup[SKU CODE],Rebate_Lookup[MOQ_4])=0, H26>=_xlfn.XLOOKUP(A26,Rebate_Lookup[SKU CODE],Rebate_Lookup[MOQ_3]) ), AND( _xlfn.XLOOKUP(A26,Rebate_Lookup[SKU CODE],Rebate_Lookup[MOQ_4])>0, H26>=_xlfn.XLOOKUP(A26,Rebate_Lookup[SKU CODE],Rebate_Lookup[MOQ_3]), H26<_xlfn.XLOOKUP(A26,Rebate_Lookup[SKU CODE],Rebate_Lookup[MOQ_4]) ) ), 3, IF( AND( _xlfn.XLOOKUP(A26,Rebate_Lookup[SKU CODE],Rebate_Lookup[MOQ_4])>0, H26>=_xlfn.XLOOKUP(A26,Rebate_Lookup[SKU CODE],Rebate_Lookup[MOQ_4]) ), 4, 1 ) ) ) ) ) )), PRICING[Standard Use Rate (oz/M)] ), 2 ))} -> 0.36 | U26: =ROUND(T26*43.56,2) -> 15.68 | V26: =IF(AND(TRIM(U26)<>"",TRIM(H26)<>""),ROUND(H26*INDEX(PRICING[Package Ounces],MATCH(A26,PRICING[SKU],0))/U26,2),"") | W26: =IF(H26<>0,ROUND(S26/V26,2),0) -> 0 | X26: =ROUND(W26/43.56,2) -> 0
A27: 79545312 | B27: =H27>0 -> FALSE | D27: {=IFERROR( _xlfn.TEXTJOIN( "; ", TRUE, _xlfn._xlws.FILTER( TEXT(PRICING[Rebate $],"$#,##0.00") & " off on " & IF( (PRICING[Min Qty]="") + (PRICING[Min Qty]=0), "1 unit", PRICING[Min Qty] & " units" ), (PRICING[SKU]=$A27) * (PRICING[Rebate $]<>"") * (PRICING[Rebate $]<>0) ) ), "n/a" )} -> $40.00 off on 1-5 units; $65.00 off on 6+ units | E27: =_xlfn.XLOOKUP(A27, PRICING[SKU], PRICING[Product], "") -> Revolver® | F27: =_xlfn.XLOOKUP(A27, PRICING[SKU], PRICING[Size], "") -> 87 fl oz | G27: =IF(_xlfn.XLOOKUP(A27,PRICING[SKU],PRICING[Indication])="I","Insecticide", IF(_xlfn.XLOOKUP(A27,PRICING[SKU],PRICING[Indication])="H","Herbicide", IF(_xlfn.XLOOKUP(A27,PRICING[SKU],PRICING[Indication])="F","Fungicide", IF(_xlfn.XLOOKUP(A27,PRICING[SKU],PRICING[Indication])="PGR","PGR","")))) -> Herbicide | I27: =INDEX(PRICING[2026 In-Season Price],MATCH(A27,PRICING[SKU],0)) -> 832.59 | J27: =IF(H27*I27= 0,"",ROUND(H27*I27,2)) | K27: =INDEX(PRICING[NOW Price],MATCH(A27,PRICING[SKU],0)) -> 808.23 | L27: =IF(H27*K27= 0,"",ROUND(H27*K27,2)) | M27: =INDEX(Rebate_Lookup[Instances],MATCH(A27,Rebate_Lookup[SKU CODE],0)) -> 2 | N27: =IF(H27="","",INDEX(Rebate_Lookup[Qualified Rebate Tier],MATCH(A27,Rebate_Lookup[SKU CODE],0))) | O27: =IF(OR(H27="",N27=""),"", IF(N27=1,INDEX(Rebate_Lookup[REB_MOQ_1],MATCH(A27,Rebate_Lookup[SKU CODE],0)), IF(N27=2,INDEX(Rebate_Lookup[REB_MOQ_2],MATCH(A27,Rebate_Lookup[SKU CODE],0)), IF(N27=3,INDEX(Rebate_Lookup[REB_MOQ_3],MATCH(A27,Rebate_Lookup[SKU CODE],0)), IF(N27=4,INDEX(Rebate_Lookup[REB_MOQ_4],MATCH(A27,Rebate_Lookup[SKU CODE],0)), "#err"))))) | P27: =IF(L41>5000,IF(OR(O27=0,O27=""),"",ROUND(H27*O27,2)),"") | Q27: =IF( H27>0, IF( ISNUMBER(SEARCH("*Specticle**FLO*",E27)), IF( AND(_xlfn.XLOOKUP(A27,PRICING[SKU],PRICING[October Bonus],FALSE),$R$10="YES"), ROUND(L27*$G$86,2), "N/A" ), IFERROR(IF(_xlfn.XLOOKUP(A27,PRICING[SKU],PRICING[October Bonus],FALSE),ROUND(L27*SUM($G$83:$G$86),2),ROUND(L27*SUM($G$83:$G$85),2)),"") ), "" ) | R27: =IFERROR(ROUND((L27-SUM(P27:Q27))/H27,2),"") | S27: =IF(AND(H27<>"",H27>0), ROUND(H27*R27,2),"") | T27: {=IF(OR(H27="",H27=0), ROUND(_xlfn.XLOOKUP(1,(PRICING[SKU]=A27)*(PRICING[Set]=1),PRICING[Standard Use Rate (oz/M)]),2),ROUND( _xlfn.XLOOKUP( 1, (PRICING[SKU]=A27)* (PRICING[Set]=IF( _xlfn.XLOOKUP(A27,Rebate_Lookup[SKU CODE],Rebate_Lookup[MOQ_2])=0, 1, IF( AND( _xlfn.XLOOKUP(A27,Rebate_Lookup[SKU CODE],Rebate_Lookup[MOQ_3])=0, H27>=_xlfn.XLOOKUP(A27,Rebate_Lookup[SKU CODE],Rebate_Lookup[MOQ_2]) ), 2, IF( AND( H27>=_xlfn.XLOOKUP(A27,Rebate_Lookup[SKU CODE],Rebate_Lookup[MOQ_1]), H27<_xlfn.XLOOKUP(A27,Rebate_Lookup[SKU CODE],Rebate_Lookup[MOQ_2]) ), 1, IF( AND( H27>=_xlfn.XLOOKUP(A27,Rebate_Lookup[SKU CODE],Rebate_Lookup[MOQ_2]), OR( _xlfn.XLOOKUP(A27,Rebate_Lookup[SKU CODE],Rebate_Lookup[MOQ_3])=0, H27<_xlfn.XLOOKUP(A27,Rebate_Lookup[SKU CODE],Rebate_Lookup[MOQ_3]) ) ), 2, IF( OR( AND( _xlfn.XLOOKUP(A27,Rebate_Lookup[SKU CODE],Rebate_Lookup[MOQ_4])=0, H27>=_xlfn.XLOOKUP(A27,Rebate_Lookup[SKU CODE],Rebate_Lookup[MOQ_3]) ), AND( _xlfn.XLOOKUP(A27,Rebate_Lookup[SKU CODE],Rebate_Lookup[MOQ_4])>0, H27>=_xlfn.XLOOKUP(A27,Rebate_Lookup[SKU CODE],Rebate_Lookup[MOQ_3]), H27<_xlfn.XLOOKUP(A27,Rebate_Lookup[SKU CODE],Rebate_Lookup[MOQ_4]) ) ), 3, IF( AND( _xlfn.XLOOKUP(A27,Rebate_Lookup[SKU CODE],Rebate_Lookup[MOQ_4])>0, H27>=_xlfn.XLOOKUP(A27,Rebate_Lookup[SKU CODE],Rebate_Lookup[MOQ_4]) ), 4, 1 ) ) ) ) ) )), PRICING[Standard Use Rate (oz/M)] ), 2 ))} -> 0.4 | U27: =ROUND(T27*43.56,2) -> 17.42 | V27: =IF(AND(TRIM(U27)<>"",TRIM(H27)<>""),ROUND(H27*INDEX(PRICING[Package Ounces],MATCH(A27,PRICING[SKU],0))/U27,2),"") | W27: =IF(H27<>0,ROUND(S27/V27,2),0) -> 0 | X27: =ROUND(W27/43.56,2) -> 0
A28: 11009495 | B28: =H28>0 -> FALSE | D28: {=IFERROR( _xlfn.TEXTJOIN( "; ", TRUE, _xlfn._xlws.FILTER( TEXT(PRICING[Rebate $],"$#,##0.00") & " off on " & IF( (PRICING[Min Qty]="") + (PRICING[Min Qty]=0), "1 unit", PRICING[Min Qty] & " units" ), (PRICING[SKU]=$A28) * (PRICING[Rebate $]<>"") * (PRICING[Rebate $]<>0) ) ), "n/a" )} -> $1.65 off on 1-7 units; $26.65 off on 8+ units | E28: =_xlfn.XLOOKUP(A28, PRICING[SKU], PRICING[Product], "") -> Scion® with UVX Technology | F28: =_xlfn.XLOOKUP(A28, PRICING[SKU], PRICING[Size], "") -> 32 oz | G28: =IF(_xlfn.XLOOKUP(A28,PRICING[SKU],PRICING[Indication])="I","Insecticide", IF(_xlfn.XLOOKUP(A28,PRICING[SKU],PRICING[Indication])="H","Herbicide", IF(_xlfn.XLOOKUP(A28,PRICING[SKU],PRICING[Indication])="F","Fungicide", IF(_xlfn.XLOOKUP(A28,PRICING[SKU],PRICING[Indication])="PGR","PGR","")))) -> Insecticide | I28: =INDEX(PRICING[2026 In-Season Price],MATCH(A28,PRICING[SKU],0)) -> 164.53 | J28: =IF(H28*I28= 0,"",ROUND(H28*I28,2)) | K28: =INDEX(PRICING[NOW Price],MATCH(A28,PRICING[SKU],0)) -> 164.53 | L28: =IF(H28*K28= 0,"",ROUND(H28*K28,2)) | M28: =INDEX(Rebate_Lookup[Instances],MATCH(A28,Rebate_Lookup[SKU CODE],0)) -> 2 | N28: =IF(H28="","",INDEX(Rebate_Lookup[Qualified Rebate Tier],MATCH(A28,Rebate_Lookup[SKU CODE],0))) | O28: =IF(OR(H28="",N28=""),"", IF(N28=1,INDEX(Rebate_Lookup[REB_MOQ_1],MATCH(A28,Rebate_Lookup[SKU CODE],0)), IF(N28=2,INDEX(Rebate_Lookup[REB_MOQ_2],MATCH(A28,Rebate_Lookup[SKU CODE],0)), IF(N28=3,INDEX(Rebate_Lookup[REB_MOQ_3],MATCH(A28,Rebate_Lookup[SKU CODE],0)), IF(N28=4,INDEX(Rebate_Lookup[REB_MOQ_4],MATCH(A28,Rebate_Lookup[SKU CODE],0)), "#err"))))) | P28: =IF(L41>5000,IF(OR(O28=0,O28=""),"",ROUND(H28*O28,2)),"") | Q28: =IF( H28>0, IF( ISNUMBER(SEARCH("*Specticle**FLO*",E28)), IF( AND(_xlfn.XLOOKUP(A28,PRICING[SKU],PRICING[October Bonus],FALSE),$R$10="YES"), ROUND(L28*$G$86,2), "N/A" ), IFERROR(IF(_xlfn.XLOOKUP(A28,PRICING[SKU],PRICING[October Bonus],FALSE),ROUND(L28*SUM($G$83:$G$86),2),ROUND(L28*SUM($G$83:$G$85),2)),"") ), "" ) | R28: =IFERROR(ROUND((L28-SUM(P28:Q28))/H28,2),"") | S28: =IF(AND(H28<>"",H28>0), ROUND(H28*R28,2),"") | T28: {=IF(OR(H28="",H28=0), ROUND(_xlfn.XLOOKUP(1,(PRICING[SKU]=A28)*(PRICING[Set]=1),PRICING[Standard Use Rate (oz/M)]),2),ROUND( _xlfn.XLOOKUP( 1, (PRICING[SKU]=A28)* (PRICING[Set]=IF( _xlfn.XLOOKUP(A28,Rebate_Lookup[SKU CODE],Rebate_Lookup[MOQ_2])=0, 1, IF( AND( _xlfn.XLOOKUP(A28,Rebate_Lookup[SKU CODE],Rebate_Lookup[MOQ_3])=0, H28>=_xlfn.XLOOKUP(A28,Rebate_Lookup[SKU CODE],Rebate_Lookup[MOQ_2]) ), 2, IF( AND( H28>=_xlfn.XLOOKUP(A28,Rebate_Lookup[SKU CODE],Rebate_Lookup[MOQ_1]), H28<_xlfn.XLOOKUP(A28,Rebate_Lookup[SKU CODE],Rebate_Lookup[MOQ_2]) ), 1, IF( AND( H28>=_xlfn.XLOOKUP(A28,Rebate_Lookup[SKU CODE],Rebate_Lookup[MOQ_2]), OR( _xlfn.XLOOKUP(A28,Rebate_Lookup[SKU CODE],Rebate_Lookup[MOQ_3])=0, H28<_xlfn.XLOOKUP(A28,Rebate_Lookup[SKU CODE],Rebate_Lookup[MOQ_3]) ) ), 2, IF( OR( AND( _xlfn.XLOOKUP(A28,Rebate_Lookup[SKU CODE],Rebate_Lookup[MOQ_4])=0, H28>=_xlfn.XLOOKUP(A28,Rebate_Lookup[SKU CODE],Rebate_Lookup[MOQ_3]) ), AND( _xlfn.XLOOKUP(A28,Rebate_Lookup[SKU CODE],Rebate_Lookup[MOQ_4])>0, H28>=_xlfn.XLOOKUP(A28,Rebate_Lookup[SKU CODE],Rebate_Lookup[MOQ_3]), H28<_xlfn.XLOOKUP(A28,Rebate_Lookup[SKU CODE],Rebate_Lookup[MOQ_4]) ) ), 3, IF( AND( _xlfn.XLOOKUP(A28,Rebate_Lookup[SKU CODE],Rebate_Lookup[MOQ_4])>0, H28>=_xlfn.XLOOKUP(A28,Rebate_Lookup[SKU CODE],Rebate_Lookup[MOQ_4]) ), 4, 1 ) ) ) ) ) )), PRICING[Standard Use Rate (oz/M)] ), 2 ))} -> 0.65 | U28: =ROUND(T28*43.56,2) -> 28.31 | V28: =IF(AND(TRIM(U28)<>"",TRIM(H28)<>""),ROUND(H28*INDEX(PRICING[Package Ounces],MATCH(A28,PRICING[SKU],0))/U28,2),"") | W28: =IF(H28<>0,ROUND(S28/V28,2),0) -> 0 | X28: =ROUND(W28/43.56,2) -> 0
A29: 11008522 | B29: =H29>0 -> FALSE | D29: {=IFERROR( _xlfn.TEXTJOIN( "; ", TRUE, _xlfn._xlws.FILTER( TEXT(PRICING[Rebate $],"$#,##0.00") & " off on " & IF( (PRICING[Min Qty]="") + (PRICING[Min Qty]=0), "1 unit", PRICING[Min Qty] & " units" ), (PRICING[SKU]=$A29) * (PRICING[Rebate $]<>"") * (PRICING[Rebate $]<>0) ) ), "n/a" )} -> $32.00 off on 8+ units | E29: =_xlfn.XLOOKUP(A29, PRICING[SKU], PRICING[Product], "") -> Solitare® Herbicide | F29: =_xlfn.XLOOKUP(A29, PRICING[SKU], PRICING[Size], "") -> 4 lb | G29: =IF(_xlfn.XLOOKUP(A29,PRICING[SKU],PRICING[Indication])="I","Insecticide", IF(_xlfn.XLOOKUP(A29,PRICING[SKU],PRICING[Indication])="H","Herbicide", IF(_xlfn.XLOOKUP(A29,PRICING[SKU],PRICING[Indication])="F","Fungicide", IF(_xlfn.XLOOKUP(A29,PRICING[SKU],PRICING[Indication])="PGR","PGR","")))) -> Herbicide | I29: =INDEX(PRICING[2026 In-Season Price],MATCH(A29,PRICING[SKU],0)) -> 611.08 | J29: =IF(H29*I29= 0,"",ROUND(H29*I29,2)) | K29: =INDEX(PRICING[NOW Price],MATCH(A29,PRICING[SKU],0)) -> 611.08 | L29: =IF(H29*K29= 0,"",ROUND(H29*K29,2)) | M29: =INDEX(Rebate_Lookup[Instances],MATCH(A29,Rebate_Lookup[SKU CODE],0)) -> 2 | N29: =IF(H29="","",INDEX(Rebate_Lookup[Qualified Rebate Tier],MATCH(A29,Rebate_Lookup[SKU CODE],0))) | O29: =IF(OR(H29="",N29=""),"", IF(N29=1,INDEX(Rebate_Lookup[REB_MOQ_1],MATCH(A29,Rebate_Lookup[SKU CODE],0)), IF(N29=2,INDEX(Rebate_Lookup[REB_MOQ_2],MATCH(A29,Rebate_Lookup[SKU CODE],0)), IF(N29=3,INDEX(Rebate_Lookup[REB_MOQ_3],MATCH(A29,Rebate_Lookup[SKU CODE],0)), IF(N29=4,INDEX(Rebate_Lookup[REB_MOQ_4],MATCH(A29,Rebate_Lookup[SKU CODE],0)), "#err"))))) | P29: =IF(L41>5000,IF(OR(O29=0,O29=""),"",ROUND(H29*O29,2)),"") | Q29: =IF( H29>0, IF( ISNUMBER(SEARCH("*Specticle**FLO*",E29)), IF( AND(_xlfn.XLOOKUP(A29,PRICING[SKU],PRICING[October Bonus],FALSE),$R$10="YES"), ROUND(L29*$G$86,2), "N/A" ), IFERROR(IF(_xlfn.XLOOKUP(A29,PRICING[SKU],PRICING[October Bonus],FALSE),ROUND(L29*SUM($G$83:$G$86),2),ROUND(L29*SUM($G$83:$G$85),2)),"") ), "" ) | R29: =IFERROR(ROUND((L29-SUM(P29:Q29))/H29,2),"") | S29: =IF(AND(H29<>"",H29>0), ROUND(H29*R29,2),"") | T29: {=IF(OR(H29="",H29=0), ROUND(_xlfn.XLOOKUP(1,(PRICING[SKU]=A29)*(PRICING[Set]=1),PRICING[Standard Use Rate (oz/M)]),2),ROUND( _xlfn.XLOOKUP( 1, (PRICING[SKU]=A29)* (PRICING[Set]=IF( _xlfn.XLOOKUP(A29,Rebate_Lookup[SKU CODE],Rebate_Lookup[MOQ_2])=0, 1, IF( AND( _xlfn.XLOOKUP(A29,Rebate_Lookup[SKU CODE],Rebate_Lookup[MOQ_3])=0, H29>=_xlfn.XLOOKUP(A29,Rebate_Lookup[SKU CODE],Rebate_Lookup[MOQ_2]) ), 2, IF( AND( H29>=_xlfn.XLOOKUP(A29,Rebate_Lookup[SKU CODE],Rebate_Lookup[MOQ_1]), H29<_xlfn.XLOOKUP(A29,Rebate_Lookup[SKU CODE],Rebate_Lookup[MOQ_2]) ), 1, IF( AND( H29>=_xlfn.XLOOKUP(A29,Rebate_Lookup[SKU CODE],Rebate_Lookup[MOQ_2]), OR( _xlfn.XLOOKUP(A29,Rebate_Lookup[SKU CODE],Rebate_Lookup[MOQ_3])=0, H29<_xlfn.XLOOKUP(A29,Rebate_Lookup[SKU CODE],Rebate_Lookup[MOQ_3]) ) ), 2, IF( OR( AND( _xlfn.XLOOKUP(A29,Rebate_Lookup[SKU CODE],Rebate_Lookup[MOQ_4])=0, H29>=_xlfn.XLOOKUP(A29,Rebate_Lookup[SKU CODE],Rebate_Lookup[MOQ_3]) ), AND( _xlfn.XLOOKUP(A29,Rebate_Lookup[SKU CODE],Rebate_Lookup[MOQ_4])>0, H29>=_xlfn.XLOOKUP(A29,Rebate_Lookup[SKU CODE],Rebate_Lookup[MOQ_3]), H29<_xlfn.XLOOKUP(A29,Rebate_Lookup[SKU CODE],Rebate_Lookup[MOQ_4]) ) ), 3, IF( AND( _xlfn.XLOOKUP(A29,Rebate_Lookup[SKU CODE],Rebate_Lookup[MOQ_4])>0, H29>=_xlfn.XLOOKUP(A29,Rebate_Lookup[SKU CODE],Rebate_Lookup[MOQ_4]) ), 4, 1 ) ) ) ) ) )), PRICING[Standard Use Rate (oz/M)] ), 2 ))} -> 2 | U29: =ROUND(T29*43.56,2) -> 87.12 | V29: =IF(AND(TRIM(U29)<>"",TRIM(H29)<>""),ROUND(H29*INDEX(PRICING[Package Ounces],MATCH(A29,PRICING[SKU],0))/U29,2),"") | W29: =IF(H29<>0,ROUND(S29/V29,2),0) -> 0 | X29: =ROUND(W29/43.56,2) -> 0
